BEGIN:VCALENDAR
VERSION:2.0
PRODID:-//Unione degli Istriani - ECPv5.0.0.2//NONSGML v1.0//EN
CALSCALE:GREGORIAN
METHOD:PUBLISH
X-WR-CALNAME:Unione degli Istriani
X-ORIGINAL-URL:https://www.unioneistriani.it
X-WR-CALDESC:Eventi per Unione degli Istriani
BEGIN:VTIMEZONE
TZID:Europe/Rome
BEGIN:DAYLIGHT
TZOFFSETFROM:+0100
TZOFFSETTO:+0200
TZNAME:CEST
DTSTART:20210328T010000
END:DAYLIGHT
BEGIN:STANDARD
TZOFFSETFROM:+0200
TZOFFSETTO:+0100
TZNAME:CET
DTSTART:20211031T010000
END:STANDARD
END:VTIMEZONE
BEGIN:VEVENT
DTSTART;TZID=Europe/Rome:20211128T170000
DTEND;TZID=Europe/Rome:20211128T183000
DTSTAMP:20260423T083710
CREATED:20211127T120041Z
LAST-MODIFIED:20211128T082331Z
UID:2907-1638118800-1638124200@www.unioneistriani.it
SUMMARY:"VENEZIA GIULIA 1943-1945\, IL DRAMMA DELLE FOIBE"\, CONFERENZA DI CHIUSURA DELLA MOSTRA A VILLORBA
DESCRIPTION:Domenica 28 novembre\, alle ore 17.00 nella bella sala della barchessa di Villa Giovannina a Villorba (Treviso)\, avrà luogo la conferenza di chiusura della mostra su Esodo e Campi profughi\, inaugurata sabato 6 novembre. \nA parlare\, con una relazione dal titolo “Venezia Giulia 1943- 1945\, il dramma delle Foibe”\, sarà il nostro Coordinatore regionale Alessandro Toscani. \nFoto: recuperi di salme di infoibati nell’estate 1945 sul Carso triestino. \n
URL:https://www.unioneistriani.it/event/venezia-giulia-1943-1945-il-dramma-delle-foibe-conferenza-di-chiusura-della-mostra-a-villorba/
LOCATION:Villa Giovannina\, via della Libertà 2\, Villorba (TV)\, Via della Libertà\, 2\, Villorba\, Treviso\, Italia
CATEGORIES:Comunicati Stampa
ATTACH;FMTTYPE=image/jpeg:https://www.unioneistriani.it/wp-content/uploads/2021/11/Foibe.jpg
END:VEVENT
END:VCALENDAR