BEGIN:VCALENDAR
VERSION:2.0
PRODID:-//Unione degli Istriani - ECPv5.0.0.2//NONSGML v1.0//EN
CALSCALE:GREGORIAN
METHOD:PUBLISH
X-WR-CALNAME:Unione degli Istriani
X-ORIGINAL-URL:https://www.unioneistriani.it
X-WR-CALDESC:Eventi per Unione degli Istriani
BEGIN:VTIMEZONE
TZID:Europe/Rome
BEGIN:DAYLIGHT
TZOFFSETFROM:+0100
TZOFFSETTO:+0200
TZNAME:CEST
DTSTART:20220327T010000
END:DAYLIGHT
BEGIN:STANDARD
TZOFFSETFROM:+0200
TZOFFSETTO:+0100
TZNAME:CET
DTSTART:20221030T010000
END:STANDARD
END:VTIMEZONE
BEGIN:VEVENT
DTSTART;TZID=Europe/Rome:20220303T163000
DTEND;TZID=Europe/Rome:20220303T173000
DTSTAMP:20260425T134112
CREATED:20220228T084807Z
LAST-MODIFIED:20220306T092944Z
UID:3359-1646325000-1646328600@www.unioneistriani.it
SUMMARY:"TITO SENZA MASCHERA": PRESENTAZIONE DELLA RISTAMPA ANASTATICA NELLA SEDE DI PALAZZO TONELLO A TRIESTE
DESCRIPTION:Prosegue incessante l’impegno dell’Unione degli Istriani nella ricerca e nella pubblicazione delle fonti primarie rispetto alla ricerca storica sull’olocausto giuliano dalmata. \nIn tale quadro\, giovedì 3 marzo\, alle ore 16.30\, nella Sala Maggiore della sede di Palazzo Tonello a Trieste avrà luogo la presentazione della ristampa anastatica del volume testimonianza\, edito nel 1947 e subito dopo fatto sparire dalla circolazione per (le solite) ragioni di politica internazionale\, dal titolo “Tito senza maschera”. \nUn documento denuncia sugli spaventosi massacri di civili – donne\, bambini e religiosi inclusi – avvenuti a guerra finita ed ordinati da Tito e dai suoi compagni criminali. \n
URL:https://www.unioneistriani.it/event/tito-senza-maschera-presentazione-della-ristampa-anastatica-nella-sede-di-palazzo-tonello-a-trieste/
LOCATION:Palazzo Tonello\, Via Silvio Pellico\, 2\, Trieste\, TS\, 34122\, Italia
CATEGORIES:Comunicati Stampa
ATTACH;FMTTYPE=image/jpeg:https://www.unioneistriani.it/wp-content/uploads/2022/03/Tito.Copertina.jpg
END:VEVENT
END:VCALENDAR