BEGIN:VCALENDAR
VERSION:2.0
PRODID:-//Unione degli Istriani - ECPv5.0.0.2//NONSGML v1.0//EN
CALSCALE:GREGORIAN
METHOD:PUBLISH
X-WR-CALNAME:Unione degli Istriani
X-ORIGINAL-URL:https://www.unioneistriani.it
X-WR-CALDESC:Eventi per Unione degli Istriani
BEGIN:VTIMEZONE
TZID:Europe/Rome
BEGIN:DAYLIGHT
TZOFFSETFROM:+0100
TZOFFSETTO:+0200
TZNAME:CEST
DTSTART:20220327T010000
END:DAYLIGHT
BEGIN:STANDARD
TZOFFSETFROM:+0200
TZOFFSETTO:+0100
TZNAME:CET
DTSTART:20221030T010000
END:STANDARD
END:VTIMEZONE
BEGIN:VEVENT
DTSTART;TZID=Europe/Rome:20220528T163000
DTEND;TZID=Europe/Rome:20220528T173000
DTSTAMP:20260421T070549
CREATED:20220511T063457Z
LAST-MODIFIED:20220511T063457Z
UID:3508-1653755400-1653759000@www.unioneistriani.it
SUMMARY:SABATO 28 MAGGIO LA PRESENTAZIONE DI UN VOLUME SULLA STORIA DELLA VALCANALE
DESCRIPTION:Sabato 28 maggio\, alle ore 16.30\, nella sede di Palazzo Tonello\, avrà luogo la presentazione di un volume sulla storia della Valcanale\, un territorio bellissimo oggi al primo posto per il turismo montano e stazione di villeggiatura rinomata del Friuli Venezia Giulia. \nL’iniziativa\, a cura del Presidente della Federazione degli Esuli in Carinzia\, Karl Heinz Moschitz\, rientra nel programma di attività del partenariato sottoscritto nei mesi scorsi tra l’Unione degli Istriani e l’ARGE Volksdeutsche Landsmannschaften in Kärnten\, sotto gli auspici del Governo regionale del Friuli Venezia Giulia\, e finalizzato a far conoscere le vicende dei rispettivi esodi ed espulsioni ad un pubblico più vasto\, che poco o nulla conosce di queste vicende. \nFoto: il Santuario del Monte Lussari\, una delle mete simbolo della Valcanale. \n
URL:https://www.unioneistriani.it/event/sabato-28-maggio-la-presentazione-di-un-volume-sulla-storia-della-valcanale/
LOCATION:Palazzo Tonello\, Via Silvio Pellico\, 2\, Trieste\, TS\, 34122\, Italia
CATEGORIES:Comunicati Stampa
ATTACH;FMTTYPE=image/jpeg:https://www.unioneistriani.it/wp-content/uploads/2022/05/Valcanale.jpg
END:VEVENT
END:VCALENDAR