BEGIN:VCALENDAR
VERSION:2.0
PRODID:-//Unione degli Istriani - ECPv5.0.0.2//NONSGML v1.0//EN
CALSCALE:GREGORIAN
METHOD:PUBLISH
X-WR-CALNAME:Unione degli Istriani
X-ORIGINAL-URL:https://www.unioneistriani.it
X-WR-CALDESC:Eventi per Unione degli Istriani
BEGIN:VTIMEZONE
TZID:Europe/Rome
BEGIN:DAYLIGHT
TZOFFSETFROM:+0100
TZOFFSETTO:+0200
TZNAME:CEST
DTSTART:20190331T010000
END:DAYLIGHT
BEGIN:STANDARD
TZOFFSETFROM:+0200
TZOFFSETTO:+0100
TZNAME:CET
DTSTART:20191027T010000
END:STANDARD
END:VTIMEZONE
BEGIN:VEVENT
DTSTART;TZID=Europe/Rome:20190208T163000
DTEND;TZID=Europe/Rome:20190208T180000
DTSTAMP:20260421T104804
CREATED:20190201T085245Z
LAST-MODIFIED:20190204T145512Z
UID:1405-1549643400-1549648800@www.unioneistriani.it
SUMMARY:Presentazione "Ernesto Cabruna. Il Carabiniere volante agente segreto di d'Annunzio a Fiume"
DESCRIPTION:[vc_row][vc_column][vc_column_text]Nella Sala Maggiore di Palazzo Tonello\, sede dell’Unione degli Istriani\, in via Silvio Pellico 2 a Trieste\, il Gen. Silvio Mazzaroli (già comandante della Brigata Alpina “Julia”) ed il Cav. Uff. Renzo Toffoli (storico)\, aprono il ciclo di eventi programmati in occasione del Giorno del Ricordo con la presentazione venerdì 8\, alle ore 16.30\, del libro di Vito Marcuzzo “Gloria e solitudine. Ernesto Cabruna. Il Carabiniere volante agente segreto di d’Annunzio a Fiume”. Sarà presente l’Autore. \n**** \nIl volume\, che raccoglie una ricerca inedita di Vito Marcuzzo\, consente di approfondire le eroiche gesta della Medaglia d’Oro al Valor Militare Ernesto Cabruna\, nato a Tortona il 2 giugno 1889\,  asso dell’aviazione durante la Grande Guerra\, con otto vittorie aeree e uno dei fedelissimi di d’Annunzio a Fiume. \n Il personaggio\, che acquisì importanti incarichi anche durante la seconda guerra mondiale\, alla fine della quale come Commissario dell’Associazione Mutilati d’Italia compì importanti missioni. Il 4 novembre 1945\, a Parigi\, rese omaggio al Milite Ignoto della Francia accompagnato all’Arco di trionfo dai rappresentanti dei mutilati e combattenti francesi\, mentre nel febbraio 1946 ottenne dal Governo di Belgrado di inviare una delegazione in Jugoslavia per trattare il ritorno dei prigionieri italiani.  \nSi spense in silenzio a Rapallo il 9 gennaio 1960 e qui venne sepolto per sua espressa volontà. Le sue spoglie\, alcuni anni dopo\, vennero traslate a Gardone Riviera\, nel mausoleo di d’Annunzio al Vittoriale. (Wikipedia\, abstract)\n[/vc_column_text][/vc_column][/vc_row][vc_row][vc_column][vc_btn title=”SCARICA L’INVITO” style=”classic” color=”inverse” align=”center” link=”url:http%3A%2F%2Fwww.unioneistriani.it%2Fwp-content%2Fuploads%2F2019%2F02%2FCabruna.pdf||target:%20_blank|”][/vc_column][/vc_row] \n
URL:https://www.unioneistriani.it/event/presentazione-ernesto-cabruna-il-carabiniere-volante-agente-segreto-di-dannunzio-a-fiume/
LOCATION:Palazzo Tonello\, Via Silvio Pellico\, 2\, Trieste\, TS\, 34122\, Italia
CATEGORIES:Attività e Proposte
ATTACH;FMTTYPE=image/jpeg:https://www.unioneistriani.it/wp-content/uploads/2019/02/Marcuzzo.jpg
END:VEVENT
END:VCALENDAR