BEGIN:VCALENDAR
VERSION:2.0
PRODID:-//Unione degli Istriani - ECPv5.0.0.2//NONSGML v1.0//EN
CALSCALE:GREGORIAN
METHOD:PUBLISH
X-WR-CALNAME:Unione degli Istriani
X-ORIGINAL-URL:https://www.unioneistriani.it
X-WR-CALDESC:Eventi per Unione degli Istriani
BEGIN:VTIMEZONE
TZID:Europe/Rome
BEGIN:DAYLIGHT
TZOFFSETFROM:+0100
TZOFFSETTO:+0200
TZNAME:CEST
DTSTART:20190331T010000
END:DAYLIGHT
BEGIN:STANDARD
TZOFFSETFROM:+0200
TZOFFSETTO:+0100
TZNAME:CET
DTSTART:20191027T010000
END:STANDARD
END:VTIMEZONE
BEGIN:VEVENT
DTSTART;TZID=Europe/Rome:20190304T163000
DTEND;TZID=Europe/Rome:20190304T180000
DTSTAMP:20260421T121538
CREATED:20190211T113031Z
LAST-MODIFIED:20190212T072451Z
UID:1368-1551717000-1551722400@www.unioneistriani.it
SUMMARY:Premio Histria Terra 2019
DESCRIPTION:[vc_row][vc_column][/vc_column][/vc_row][vc_row][vc_column][vc_column_text] \nCOMUNICATO\n*** \nASSEGNATO A MAXIMILIANO HERNANDO BRUNO\, REGISTA DEL FILM “RED LAND – ROSSO ISTRIA”\, IL PREMIO HISTRIA TERRA 2019 \n+++ \nCon molto piacere annunciamo che la Giunta Esecutiva dell’Unione degli Istriani ha recentemente deliberato all’unanimità di conferire l’edizione 2019 del PREMIO HISTRIA TERRA al regista del film “RED LAND – Rosso Istria”\, Maximiliano Hernando Bruno. \nIl testo della motivazione verrà reso noto prossimamente. \nLa cerimonia di consegna del premio\, che è uno dei massimi riconoscimenti che il nostro Ente associativo conferisce annualmente\, avrà luogo lunedì 4 marzo 2019\, alle ore 16.30\, nella Sala Maggiore della sede di Palazzo Tonello\, alla presenza delle autorità. \nFoto: il regista sul set “Red Land (Rosso Istria)”\, fonte: maximilianohernandobruno.blogspot[/vc_column_text][/vc_column][/vc_row] \n
URL:https://www.unioneistriani.it/event/premio-histria-terra-2019/
LOCATION:Palazzo Tonello\, Via Silvio Pellico\, 2\, Trieste\, TS\, 34122\, Italia
CATEGORIES:Comunicati Stampa
ATTACH;FMTTYPE=image/jpeg:https://www.unioneistriani.it/wp-content/uploads/2019/01/Bruno.jpg
END:VEVENT
END:VCALENDAR