BEGIN:VCALENDAR
VERSION:2.0
PRODID:-//Unione degli Istriani - ECPv5.0.0.2//NONSGML v1.0//EN
CALSCALE:GREGORIAN
METHOD:PUBLISH
X-WR-CALNAME:Unione degli Istriani
X-ORIGINAL-URL:https://www.unioneistriani.it
X-WR-CALDESC:Eventi per Unione degli Istriani
BEGIN:VTIMEZONE
TZID:Europe/Rome
BEGIN:DAYLIGHT
TZOFFSETFROM:+0100
TZOFFSETTO:+0200
TZNAME:CEST
DTSTART:20210328T010000
END:DAYLIGHT
BEGIN:STANDARD
TZOFFSETFROM:+0200
TZOFFSETTO:+0100
TZNAME:CET
DTSTART:20211031T010000
END:STANDARD
END:VTIMEZONE
BEGIN:VEVENT
DTSTART;TZID=Europe/Rome:20211021T110000
DTEND;TZID=Europe/Rome:20211021T123000
DTSTAMP:20260425T121645
CREATED:20211020T070003Z
LAST-MODIFIED:20211022T065505Z
UID:2836-1634814000-1634819400@www.unioneistriani.it
SUMMARY:NEL MUNICIPIO DI SONDRIO LA FIRMA DEL PROTOCOLLO DI INTESA TRA IL COMUNE E L’UNIONE DEGLI ISTRIANI
DESCRIPTION:Avrà luogo giovedì 21 ottobre 2021\, alle ore 11.30\, nella sede municipale di Palazzo Pretorio a Sondrio\, la cerimonia della firma del Protocollo di Intesa tra il Comune e l’Unione degli Istriani\, l’atto che sancirà di fatto la nascita di un partenariato dedicato allo sviluppo di iniziative finalizzate alla divulgazione della storia del Confine orientale\, dei drammi delle Foibe e dell’Esodo degli Istriani\, dei Fiumani e dei Dalmati dalle loro terre. \nA firmare il documento saranno il Sindaco Marco Scaramellini ed il Presidente Massimiliano Lacota. \nA comporre la Delegazione dell’Unione degli Istriani presente nel capoluogo della Valtellina per l’occasione\, ci saranno il Segretario Generale\, Raffaele Tamaro\, il Coordinatore regionale per la Lombardia\, Lorenzo Galli\, ed il Coordinatore regionale per la Campania\, Giuseppe Sartore. \nA questo link il comunicato stampa del Comune di Sondrio. \nFoto: Palazzo Pretorio\, sede del Municipio. \n
URL:https://www.unioneistriani.it/event/nel-municipio-di-sondrio-la-firma-del-protocollo-di-intesa-tra-il-comune-e-lunione-degli-istriani/
LOCATION:Comune di Sondrio\, Piazza Campello\, 1\, Sondrio\, 23100\, Italia
CATEGORIES:Comunicati Stampa
ATTACH;FMTTYPE=image/jpeg:https://www.unioneistriani.it/wp-content/uploads/2021/10/Sondrio_PalazzoPretorio.jpg
END:VEVENT
END:VCALENDAR