BEGIN:VCALENDAR
VERSION:2.0
PRODID:-//Unione degli Istriani - ECPv5.0.0.2//NONSGML v1.0//EN
CALSCALE:GREGORIAN
METHOD:PUBLISH
X-WR-CALNAME:Unione degli Istriani
X-ORIGINAL-URL:https://www.unioneistriani.it
X-WR-CALDESC:Eventi per Unione degli Istriani
BEGIN:VTIMEZONE
TZID:Europe/Rome
BEGIN:DAYLIGHT
TZOFFSETFROM:+0100
TZOFFSETTO:+0200
TZNAME:CEST
DTSTART:20260329T010000
END:DAYLIGHT
BEGIN:STANDARD
TZOFFSETFROM:+0200
TZOFFSETTO:+0100
TZNAME:CET
DTSTART:20261025T010000
END:STANDARD
END:VTIMEZONE
BEGIN:VEVENT
DTSTART;TZID=Europe/Rome:20260429T180000
DTEND;TZID=Europe/Rome:20260429T190000
DTSTAMP:20260421T135250
CREATED:20260421T091241Z
LAST-MODIFIED:20260421T092131Z
UID:5528-1777485600-1777489200@www.unioneistriani.it
SUMMARY:LA STRAGE DI VERGAROLLA A SONDRIO
DESCRIPTION:Con la partecipazione del pronipote e nostro Coordinatore regionale per la Puglia\, Gianni Nardin\, mercoledì 29 aprile\, alle ore 18.00\, presso la Biblioteca Pio Rajna di Sondrio\, avrà luogo la conferenza rievocativa sul dott. Geppino Micheletti\, il medico Eroe di Vergarolla\, la strage contro gli italiani compiuto il 18 agosto di ottant’anni fa sulla spiaggia più gettonata di Pola. \nL’iniziativa si deve allo splendido Partenariato tra Unione degli Istriani e Comune di Sondrio. \n
URL:https://www.unioneistriani.it/event/la-strage-di-vergarolla-a-sondrio/
LOCATION:Sondrio\, Italia
CATEGORIES:Comunicati Stampa
ATTACH;FMTTYPE=image/jpeg:https://www.unioneistriani.it/wp-content/uploads/2026/04/Sondrio_20260429.jpg
END:VEVENT
END:VCALENDAR