BEGIN:VCALENDAR
VERSION:2.0
PRODID:-//Unione degli Istriani - ECPv5.0.0.2//NONSGML v1.0//EN
CALSCALE:GREGORIAN
METHOD:PUBLISH
X-WR-CALNAME:Unione degli Istriani
X-ORIGINAL-URL:https://www.unioneistriani.it
X-WR-CALDESC:Eventi per Unione degli Istriani
BEGIN:VTIMEZONE
TZID:Europe/Rome
BEGIN:DAYLIGHT
TZOFFSETFROM:+0100
TZOFFSETTO:+0200
TZNAME:CEST
DTSTART:20220327T010000
END:DAYLIGHT
BEGIN:STANDARD
TZOFFSETFROM:+0200
TZOFFSETTO:+0100
TZNAME:CET
DTSTART:20221030T010000
END:STANDARD
END:VTIMEZONE
BEGIN:VEVENT
DTSTART;TZID=Europe/Rome:20220205T103000
DTEND;TZID=Europe/Rome:20220205T113000
DTSTAMP:20260421T132225
CREATED:20220204T050052Z
LAST-MODIFIED:20220206T180908Z
UID:3011-1644057000-1644060600@www.unioneistriani.it
SUMMARY:INAUGURAZIONE A BUSSOLENGO DI UNA MOSTRA SULL'ESODO
DESCRIPTION:Si inaugura sabato 5 febbraio\, alle ore 10.30\, nella splendida cornice di Villa Spinola a Bussolengo (Verona)\, la mostra “L’esodo degli italiani dell’Adriatico orientale: dall’Istria\, Fiume e Dalmazia ai campi profughi”\, organizzata dall’Unione degli Istriani in collaborazione con il Comune e con l’Associazione Controvento. \nSaranno esposte anche diverse masserizie che gli Esuli portarono con sé durante la fuga dalle loro terre occupate dai partigiani slavo comunisti\, oggi conservate nel Museo di Carattere Nazionale CRP di Padriciano. \nLa mostra sarà visitabile con orario 10:00 – 12:00 e  14:00 – 18:00 nelle seguenti giornate: \n5 – 6 febbraio \n11 – 12 – 13 febbraio \n18 – 19 – 20 febbraio \nGrazie all’Amministrazione comunale ed al nostro Coordinatore regionale Alessandro Toscani per aver promosso questa iniziativa nell’ambito del Giorno del Ricordo. \n
URL:https://www.unioneistriani.it/event/inaugurazione-a-bussolengo-di-una-mostra-sullesodo/
LOCATION:Bussolengo\, Italia
CATEGORIES:Comunicati Stampa
ATTACH;FMTTYPE=image/jpeg:https://www.unioneistriani.it/wp-content/uploads/2022/02/Bussolengo.Mostra2022.jpg
END:VEVENT
END:VCALENDAR