BEGIN:VCALENDAR
VERSION:2.0
PRODID:-//Unione degli Istriani - ECPv5.0.0.2//NONSGML v1.0//EN
CALSCALE:GREGORIAN
METHOD:PUBLISH
X-WR-CALNAME:Unione degli Istriani
X-ORIGINAL-URL:https://www.unioneistriani.it
X-WR-CALDESC:Eventi per Unione degli Istriani
BEGIN:VTIMEZONE
TZID:Europe/Rome
BEGIN:DAYLIGHT
TZOFFSETFROM:+0100
TZOFFSETTO:+0200
TZNAME:CEST
DTSTART:20210328T010000
END:DAYLIGHT
BEGIN:STANDARD
TZOFFSETFROM:+0200
TZOFFSETTO:+0100
TZNAME:CET
DTSTART:20211031T010000
END:STANDARD
END:VTIMEZONE
BEGIN:VEVENT
DTSTART;VALUE=DATE:20211006
DTEND;VALUE=DATE:20211007
DTSTAMP:20260425T120013
CREATED:20211006T130835Z
LAST-MODIFIED:20211006T130835Z
UID:2826-1633478400-1633564799@www.unioneistriani.it
SUMMARY:IN USCITA UNO SPLENDIDO VOLUME SULLA STORIA DI CITTANOVA D'ISTRIA
DESCRIPTION:Va in stampa nei prossimi giorni uno splendido volume sulla storia di Cittanova d’Istria\, curato dalla nostra Vicepresidente Nelia Verginella per conto della Fameia Cittanovese\, aderente alla nostra Unione degli Istriani. \nPer conoscere il valore storico-documentale del libro\, proponiamo di seguito la prefazione del Presidente Massimiliano Lacota. \n***\nUn accurato lavoro di ricerca e di documentazione\, durato due anni\, magistralmente coordinato dalla dinamica vicepresidente dell’Unione degli Istriani\, Nelia Verginella\, ha consentito di pubblicare questo splendido volume che è una radiografia delle vicissitudini che hanno contrassegnato la vita a Cittanova d’Istria\, dallo scoppio della seconda guerra mondiale all’esodo di massa che la svuotò dai suoi abitanti\, tutti italiani. \n“Cittanova scomparsa” rappresenta davvero un unicum: una raccolta originale ed ordinata di avvenimenti\, di storie familiari\, di testimonianze e dichiarazioni giurate rese da chi visse in prima persona quel drammatico periodo che cancellò per sempre l’identità e le tradizioni italiane della cittadina istriana; una lunga quanto drammatica sequenza di date\, che segnarono\, giorno dopo giorno\, mese dopo mese e anno dopo anno\, le partenze senza ritorno delle famiglie dei cittanovesi costretti a lasciare per sempre la loro città; le fotografie scattate nei luoghi dell’accoglienza in Italia – dalle affollate baracche dei campi profughi ai diversi collegi e convitti\, dalle caserme dismesse e dalle scuole ai fatiscenti fabbricati portuali o industriali delle periferie cittadine – che immortalano attraverso gli sguardi di madri e padri il dolore per la perdita di ogni cosa\, frammisto alla speranza di ricostruire\, liberi\, una nuova esistenza in patria. \nSenza esagerazione o retorica di sorta\, è doveroso quindi riconoscere che con questo ultimo tassello\, la Fameia Cittanovese\, aderente all’Unione degli Istriani e della quale è sempre stata una colonna portante\, ha conseguito con preciso senso del dovere e di responsabilità gli scopi statutari associativi: dopo il volume di qualche anno fa\, “Per le antiche strade”\, con quest’ultima opera il nobile obiettivo di lasciare ai posteri una dimostrazione scritta di ciò che era Cittanova fino alla metà dello scorso secolo è stato perfettamente raggiunto. \nAbbiamo tutti noi\, esuli e discendenti\, un grande debito di gratitudine verso quanti hanno contribuito\, a vario titolo\, alla realizzazione di questo inestimabile lavoro che renderà incancellabile la vera storia di una delle più belle e fedeli cittadine della nostra amata Istria. \n
URL:https://www.unioneistriani.it/event/in-uscita-uno-splendido-volume-sulla-storia-di-cittanova-distria/
CATEGORIES:Attività e Proposte
ATTACH;FMTTYPE=image/jpeg:https://www.unioneistriani.it/wp-content/uploads/2021/10/Cittanova.jpg
END:VEVENT
END:VCALENDAR