BEGIN:VCALENDAR
VERSION:2.0
PRODID:-//Unione degli Istriani - ECPv5.0.0.2//NONSGML v1.0//EN
CALSCALE:GREGORIAN
METHOD:PUBLISH
X-WR-CALNAME:Unione degli Istriani
X-ORIGINAL-URL:https://www.unioneistriani.it
X-WR-CALDESC:Eventi per Unione degli Istriani
BEGIN:VTIMEZONE
TZID:Europe/Rome
BEGIN:DAYLIGHT
TZOFFSETFROM:+0100
TZOFFSETTO:+0200
TZNAME:CEST
DTSTART:20260329T010000
END:DAYLIGHT
BEGIN:STANDARD
TZOFFSETFROM:+0200
TZOFFSETTO:+0100
TZNAME:CET
DTSTART:20261025T010000
END:STANDARD
END:VTIMEZONE
BEGIN:VEVENT
DTSTART;TZID=Europe/Rome:20260303T170000
DTEND;TZID=Europe/Rome:20260303T180000
DTSTAMP:20260422T100859
CREATED:20260303T075459Z
LAST-MODIFIED:20260303T075459Z
UID:5394-1772557200-1772560800@www.unioneistriani.it
SUMMARY:IL CORO "I GIOIOSI" OSPITE IN SEDE PER UN POMERIGGIO IN ALLEGRIA
DESCRIPTION:In collaborazione con l’associazione Sweet Heart – Dolce Cuore si svolge nel pomeriggio di martedì 3 marzo\, nella Sala Maggiore di Palazzo Tonello\, un nuovo evento del coro “I Gioiosi”\, a partire dalle ore 17. \nVi aspettiamo numerosi! \n
URL:https://www.unioneistriani.it/event/il-coro-i-gioiosi-ospite-in-sede-per-un-pomeriggio-in-allegria/
LOCATION:Palazzo Tonello\, Via Silvio Pellico\, 2\, Trieste\, TS\, 34122\, Italia
CATEGORIES:Comunicati Stampa
ATTACH;FMTTYPE=image/jpeg:https://www.unioneistriani.it/wp-content/uploads/2026/03/Gioiosi_2026.03.03.jpg
END:VEVENT
END:VCALENDAR