BEGIN:VCALENDAR
VERSION:2.0
PRODID:-//Unione degli Istriani - ECPv5.0.0.2//NONSGML v1.0//EN
CALSCALE:GREGORIAN
METHOD:PUBLISH
X-WR-CALNAME:Unione degli Istriani
X-ORIGINAL-URL:https://www.unioneistriani.it
X-WR-CALDESC:Eventi per Unione degli Istriani
BEGIN:VTIMEZONE
TZID:Europe/Rome
BEGIN:DAYLIGHT
TZOFFSETFROM:+0100
TZOFFSETTO:+0200
TZNAME:CEST
DTSTART:20200329T010000
END:DAYLIGHT
BEGIN:STANDARD
TZOFFSETFROM:+0200
TZOFFSETTO:+0100
TZNAME:CET
DTSTART:20201025T010000
END:STANDARD
END:VTIMEZONE
BEGIN:VEVENT
DTSTART;TZID=Europe/Rome:20200210T103000
DTEND;TZID=Europe/Rome:20200210T120000
DTSTAMP:20260426T030124
CREATED:20200209T190058Z
LAST-MODIFIED:20200210T175059Z
UID:2150-1581330600-1581336000@www.unioneistriani.it
SUMMARY:GIORNO DEL RICORDO\, LA CERIMONIA PIÙ IMPORTANTE IN ITALIA È AL MONUMENTO NAZIONALE DELLA FOIBA DI BASOVIZZA\, ALLE ORE 10.30
DESCRIPTION:Dal 2005 la manifestazione più importante celebrativa del Giorno del Ricordo si svolge presso il Monumento Nazionale della Foiba di Basovizza. \n\nOrganizzata dal Comitato per le Onoranze ai Martiri delle Foibe\, di cui l’Unione degli Istriani è orgogliosamente fondatrice e membro attivo\, e dal Comune di Trieste\, la Cerimonia avrà luogo alle ore 10.30\, quest’anno alla presenza del rappresentante del Governo\, il Ministro Federico D’Incà\, e di molti leader e autorevoli rappresentanti dei partiti nazionali: il Sen. Matteo Salvini\, l’On. Giorgia Meloni\, il Sen. Maurizio Gasparri e il Sen. Luigi Zanda. \nMigliaia sono le persone che vi partecipano\, da tutta Italia\, così come molte scuole che di anno in anno aumentano il loro numero. \nNella foto: la spianata presso la Foiba di Basovizza in una immagine d’archivio. \n\n
URL:https://www.unioneistriani.it/event/giorno-del-ricordo-la-cerimonia-piu-importante-in-italia-e-al-monumento-nazionale-della-foiba-di-basovizza-alle-ore-10-30/
CATEGORIES:Attività e Proposte
ATTACH;FMTTYPE=image/jpeg:https://www.unioneistriani.it/wp-content/uploads/2019/01/Basovizza.jpg
END:VEVENT
END:VCALENDAR