BEGIN:VCALENDAR
VERSION:2.0
PRODID:-//Unione degli Istriani - ECPv5.0.0.2//NONSGML v1.0//EN
CALSCALE:GREGORIAN
METHOD:PUBLISH
X-WR-CALNAME:Unione degli Istriani
X-ORIGINAL-URL:https://www.unioneistriani.it
X-WR-CALDESC:Eventi per Unione degli Istriani
BEGIN:VTIMEZONE
TZID:Europe/Rome
BEGIN:DAYLIGHT
TZOFFSETFROM:+0100
TZOFFSETTO:+0200
TZNAME:CEST
DTSTART:20220327T010000
END:DAYLIGHT
BEGIN:STANDARD
TZOFFSETFROM:+0200
TZOFFSETTO:+0100
TZNAME:CET
DTSTART:20221030T010000
END:STANDARD
END:VTIMEZONE
BEGIN:VEVENT
DTSTART;TZID=Europe/Rome:20220210T160000
DTEND;TZID=Europe/Rome:20220210T170000
DTSTAMP:20260421T162610
CREATED:20220207T074945Z
LAST-MODIFIED:20220207T074945Z
UID:3052-1644508800-1644512400@www.unioneistriani.it
SUMMARY:GIORNO DEL RICORDO\, A  BACOLI L'INTITOLAZIONE DI UNA PIAZZA AI MARTIRI DELLE FOIBE
DESCRIPTION:Con una delibera votata all’unanimità\, in occasione di una seduta tenutasi nella Giornata del Ricordo 2020\, il Consiglio Comunale di Bacoli (Napoli) aveva approvato una mozione volta a promuovere l’intitolazione di una piazza da dedicare ai Martiri delle Foibe. \nA distanza di due anni\, il Consiglio Comunale e la Commissione Speciale per la Toponomastica hanno voluto dedicare una parte del suo territorio a ricordo di queste Vittime. \nLa piazza scelta è quella antistante la Chiesa di San Sossio\, a Miseno\, in via Sacello degli Augustali\, di fronte Marina Piccola\, ed è qui che giovedì 10 febbraio 2022\, alle ore 16.00\, si terrà la cerimonia di intitolazione della Piazza Martiri delle Foibe. \nLa cerimonia vedrà la partecipazione del nostro Coordinatore regionale\, Giuseppe Sartore\, che ringraziamo assieme al Sindaco ed al Presidente del Consiglio comunale. \n
URL:https://www.unioneistriani.it/event/giorno-del-ricordo-a-bacoli-lintitolazione-di-una-piazza-ai-martiri-delle-foibe/
LOCATION:Bacoli\, Bacoli\, NA\, Italia
CATEGORIES:Comunicati Stampa
ATTACH;FMTTYPE=image/jpeg:https://www.unioneistriani.it/wp-content/uploads/2022/02/Bacoli.2022.02.10.jpg
END:VEVENT
END:VCALENDAR