BEGIN:VCALENDAR
VERSION:2.0
PRODID:-//Unione degli Istriani - ECPv5.0.0.2//NONSGML v1.0//EN
CALSCALE:GREGORIAN
METHOD:PUBLISH
X-WR-CALNAME:Unione degli Istriani
X-ORIGINAL-URL:https://www.unioneistriani.it
X-WR-CALDESC:Eventi per Unione degli Istriani
BEGIN:VTIMEZONE
TZID:Europe/Rome
BEGIN:DAYLIGHT
TZOFFSETFROM:+0100
TZOFFSETTO:+0200
TZNAME:CEST
DTSTART:20260329T010000
END:DAYLIGHT
BEGIN:STANDARD
TZOFFSETFROM:+0200
TZOFFSETTO:+0100
TZNAME:CET
DTSTART:20261025T010000
END:STANDARD
END:VTIMEZONE
BEGIN:VEVENT
DTSTART;VALUE=DATE:20260303
DTEND;VALUE=DATE:20260304
DTSTAMP:20260420T111957
CREATED:20260304T081639Z
LAST-MODIFIED:20260309T093956Z
UID:5397-1772496000-1772582399@www.unioneistriani.it
SUMMARY:FIRMATO L’ACCORDO DI PARTENARIATO CON LA REGIONE PIEMONTE
DESCRIPTION:Nella mattina di martedì 3 marzo è stato firmato a Torino\, nella sede di piazza Piemonte\, l’Accordo di Partenariato tra l’Unione degli Istriani e la Regione Piemonte. \nA sottoscrivere il documento di collaborazione sono stati l’Assessore regionale Maurizio Marrone ed il Presidente Massimiliano Lacota\, alla presenza del Vicepresidente Enrico Brandmayr e del Coordinatore regionale per il Piemonte e la Valle d’Aosta Valerio Cignetti. \nA breve si stabiliranno le attività culturali da svolgere in partenariato con la Regione su tutto il territorio regionale. \nUna splendida iniziativa che apre la strada ad una nuova progettualità! \na \n\n			\n				\n			\n			\n				\n			\n		\n\n
URL:https://www.unioneistriani.it/event/firmato-a-torino-laccordo-di-partenariato-con-la-regione-piemonte/
LOCATION:Torino\, Italia
CATEGORIES:Attività e Proposte
ATTACH;FMTTYPE=image/jpeg:https://www.unioneistriani.it/wp-content/uploads/2026/03/Torino_2026.03.03.jpg
END:VEVENT
END:VCALENDAR