BEGIN:VCALENDAR
VERSION:2.0
PRODID:-//Unione degli Istriani - ECPv5.0.0.2//NONSGML v1.0//EN
CALSCALE:GREGORIAN
METHOD:PUBLISH
X-WR-CALNAME:Unione degli Istriani
X-ORIGINAL-URL:https://www.unioneistriani.it
X-WR-CALDESC:Eventi per Unione degli Istriani
BEGIN:VTIMEZONE
TZID:Europe/Rome
BEGIN:DAYLIGHT
TZOFFSETFROM:+0100
TZOFFSETTO:+0200
TZNAME:CEST
DTSTART:20260329T010000
END:DAYLIGHT
BEGIN:STANDARD
TZOFFSETFROM:+0200
TZOFFSETTO:+0100
TZNAME:CET
DTSTART:20261025T010000
END:STANDARD
END:VTIMEZONE
BEGIN:VEVENT
DTSTART;VALUE=DATE:20260303
DTEND;VALUE=DATE:20260304
DTSTAMP:20260420T121802
CREATED:20260301T071151Z
LAST-MODIFIED:20260309T094016Z
UID:5389-1772496000-1772582399@www.unioneistriani.it
SUMMARY:PATTO DI COLLABORAZIONE TRA REGIONE PIEMONTE ED UNIONE DEGLI ISTRIANI
DESCRIPTION:Avrà luogo il prossimo martedì 3 marzo 2026 a Torino la firma del Protocollo di Intesa tra la Regione Piemonte e l’Unione degli Istriani\, che aprirà una nuova stagione di collaborazione incentrata sulla diffusione sul territorio regionale di iniziative rivolte alla conoscenza dei drammi delle Foibe e dell’Esodo giuliano-dalmata.\n\nRingraziamo di cuore l’Assessore regionale Maurizio Marrone ed il nostro Coordinatore regionale per il Piemonte e la Valle D’Aosta\, Valerio Cignetti\, per aver reso esecutivo il provvedimento.\n\nSiamo pronti a dare il meglio di noi e lavorare sodo per far sì che la nostra Storia sia sempre più raccontata e conosciuta!\n
URL:https://www.unioneistriani.it/event/firma-a-torino-del-patto-di-collaborazione-tra-regione-piemonte-ed-unione-degli-istriani/
LOCATION:Torino\, Italia
CATEGORIES:Comunicati Stampa
ATTACH;FMTTYPE=image/jpeg:https://www.unioneistriani.it/wp-content/uploads/2026/03/Regione.Piemonte.jpg
END:VEVENT
END:VCALENDAR