BEGIN:VCALENDAR
VERSION:2.0
PRODID:-//Unione degli Istriani - ECPv5.0.0.2//NONSGML v1.0//EN
CALSCALE:GREGORIAN
METHOD:PUBLISH
X-WR-CALNAME:Unione degli Istriani
X-ORIGINAL-URL:https://www.unioneistriani.it
X-WR-CALDESC:Eventi per Unione degli Istriani
BEGIN:VTIMEZONE
TZID:Europe/Rome
BEGIN:DAYLIGHT
TZOFFSETFROM:+0100
TZOFFSETTO:+0200
TZNAME:CEST
DTSTART:20190331T010000
END:DAYLIGHT
BEGIN:STANDARD
TZOFFSETFROM:+0200
TZOFFSETTO:+0100
TZNAME:CET
DTSTART:20191027T010000
END:STANDARD
END:VTIMEZONE
BEGIN:VEVENT
DTSTART;TZID=Europe/Rome:20190807T100000
DTEND;TZID=Europe/Rome:20190807T180000
DTSTAMP:20260423T204805
CREATED:20190802T151824Z
LAST-MODIFIED:20190802T151824Z
UID:1818-1565172000-1565200800@www.unioneistriani.it
SUMMARY:DELEGAZIONE DEL COMUNE DI CITTADELLA (PD) IN VISITA IL 7 AGOSTO
DESCRIPTION:[vc_row][vc_column][vc_column_text] \n\n\nAnche il Comune di Cittadella (PD) sostiene l’appello dell’Unione degli Istriani di modificare la normativa vigente\, affinché si possano finalmente revocare le assurde onorificenze italiane conferite al dittatore Tito nel 1969.\n\n\nCome sicuramente ricordate\, il Consiglio Comunale aveva infatti votato\, ancora lo scorso aprile\, una risoluzione in tale direzione\, il cui testo potete trovare qui sotto. \n\n\nIl Sindaco Luca Pierobon ed il nostro socio Andrea Preden  saranno in visita istituzionale a Trieste il prossimo 7 agosto.\n\n\n\nLi accoglieremo molto volentieri!\n\n\n[/vc_column_text][/vc_column][/vc_row][vc_row][vc_column width=”1/2″][vc_single_image image=”1816″][/vc_column][vc_column width=”1/2″][vc_single_image image=”1817″][/vc_column][/vc_row] \n
URL:https://www.unioneistriani.it/event/delegazione-del-comune-di-cittadella-pd-in-visita-il-7-agosto/
LOCATION:Palazzo Tonello\, Via Silvio Pellico\, 2\, Trieste\, TS\, 34122\, Italia
CATEGORIES:Comunicati Stampa
ATTACH;FMTTYPE=image/jpeg:https://www.unioneistriani.it/wp-content/uploads/2019/08/ComuneCittadella.jpg
END:VEVENT
END:VCALENDAR