BEGIN:VCALENDAR
VERSION:2.0
PRODID:-//Unione degli Istriani - ECPv5.0.0.2//NONSGML v1.0//EN
CALSCALE:GREGORIAN
METHOD:PUBLISH
X-WR-CALNAME:Unione degli Istriani
X-ORIGINAL-URL:https://www.unioneistriani.it
X-WR-CALDESC:Eventi per Unione degli Istriani
BEGIN:VTIMEZONE
TZID:Europe/Rome
BEGIN:DAYLIGHT
TZOFFSETFROM:+0100
TZOFFSETTO:+0200
TZNAME:CEST
DTSTART:20210328T010000
END:DAYLIGHT
BEGIN:STANDARD
TZOFFSETFROM:+0200
TZOFFSETTO:+0100
TZNAME:CET
DTSTART:20211031T010000
END:STANDARD
END:VTIMEZONE
BEGIN:VEVENT
DTSTART;TZID=Europe/Rome:20211116T170000
DTEND;TZID=Europe/Rome:20211116T183000
DTSTAMP:20260425T102203
CREATED:20211117T072327Z
LAST-MODIFIED:20211117T072509Z
UID:2887-1637082000-1637087400@www.unioneistriani.it
SUMMARY:CRONACA DELL'INAUGURAZIONE A MARTINA FRANCA DELLA MOSTRA "DALLE FOIBE AI CAMPI PROFUGHI: L'ODISSEA DEI 350.000 ISTRIANI\, FIUMANI E DALMATI"
DESCRIPTION:Si è svolta\, nel pomeriggio di martedì 16 novembre\, a Palazzo Ducale di Martina Franca (Taranto) la cerimonia di inaugurazione della mostra didattica intitolata “Dalle Foibe ai Campi profughi: l’odissea dei 350.000 Istriani\, Fiumani e Dalmati”\, promossa dall’Unione degli Istriani con la collaborazione ed il patrocinio della Città di Martina Franca\, ed il contributo del Ministero degli Affari Esteri. \nPresenti al taglio del nastro l’Assessore ai Beni Culturali\, il professor Antonio Scialpi\, cui va il nostro ringraziamento per la sensibilità e l’interesse alla proposta\, il nostro Coordinatore regionale per la Puglia\, Gianni Nardin\, che ha illustrato l’esposizione\, l’amico professor Vito Fumarola\, cui si deve l’iniziativa\, e la nostra Fulvia Sizzi Siscovich. \nDi seguito\, alcune istantanee dell’evento. \n\n			\n				\n			\n			\n				\n			\n		\n\na \n\n			\n				\n			\n			\n				\n			\n		\n\n
URL:https://www.unioneistriani.it/event/cronaca-dellinaugurazione-a-martina-franca-della-mostra-dalle-foibe-ai-campi-profughi-lodissea-dei-350-000-istriani-fiumani-e-dalmati/
LOCATION:Palazzo Ducale\, Piazza Roma\, 28\, Martina Franca\, Taranto\, Italia
CATEGORIES:Attività e Proposte
ATTACH;FMTTYPE=image/jpeg:https://www.unioneistriani.it/wp-content/uploads/2021/11/MartinaFranca01.jpg
END:VEVENT
END:VCALENDAR