BEGIN:VCALENDAR
VERSION:2.0
PRODID:-//Unione degli Istriani - ECPv5.0.0.2//NONSGML v1.0//EN
CALSCALE:GREGORIAN
METHOD:PUBLISH
X-WR-CALNAME:Unione degli Istriani
X-ORIGINAL-URL:https://www.unioneistriani.it
X-WR-CALDESC:Eventi per Unione degli Istriani
BEGIN:VTIMEZONE
TZID:Europe/Rome
BEGIN:DAYLIGHT
TZOFFSETFROM:+0100
TZOFFSETTO:+0200
TZNAME:CEST
DTSTART:20210328T010000
END:DAYLIGHT
BEGIN:STANDARD
TZOFFSETFROM:+0200
TZOFFSETTO:+0100
TZNAME:CET
DTSTART:20211031T010000
END:STANDARD
END:VTIMEZONE
BEGIN:VEVENT
DTSTART;TZID=Europe/Rome:20211029T173000
DTEND;TZID=Europe/Rome:20211029T183000
DTSTAMP:20260423T055008
CREATED:20210928T115455Z
LAST-MODIFIED:20210928T115455Z
UID:2798-1635528600-1635532200@www.unioneistriani.it
SUMMARY:CONFERIMENTO A FAUSTO BILOSLAVO DEL "VESSILLO DELLA LIBERA PROVINCIA DELL'ISTRIA"
DESCRIPTION:Con piacere\, finalmente\, vi comunichiamo che il nostro celebre giornalista di guerra e scrittore Fausto Biloslavo\, insignito del “Vessillo della Libera Provincia dell’Istria”\, il più alto riconoscimento dell’Unione degli Istriani\, riceverà il premio nell’ambito di una cerimonia pubblica che avrà luogo nella sede di Palazzo Tonello\, venerdì 29 ottobre alle ore 17.30. \nLa data della cerimonia\, già prevista la scorsa primavera e poi sospesa prima per le restrizioni legate alla emergenza sanitaria e poi per la missione in Afghanistan dell’insignito\, è stata comunicata dalla Presidenza pochi minuti fa. \nNato a Trieste nel 1961\, Biloslavo ha pubblicato articoli per le principali testate italiane\, tra cui “Il Giornale”\, “Il Foglio”\, “Panorama” e “Il Corriere della Sera”. Ha realizzato servizi per Nbc\, Cbs\, Rai\, Sky e Mediaset. \nÈ uno dei fondatori del sito “Gli occhi della guerra”\, che raccoglie molti reportage. \nHa raccontato i peggiori conflitti degli ultimi decenni\, dalla guerra in Afghanistan alla Primavera araba\, alla guerra in Jugoslavia\, alle battaglie per liberare i territori occupati dall’Isis. Tra le sue pubblicazioni ricordiamo “Bosnia Erzegovina. Porta dell’Islam verso l’Europa” (Solfanelli\, 2017\, con P. Luigi Bianchi Cagliesi) e “Guerra guerra guerra. Trent’anni di conflitti\, vita e morte nelle parole e nelle emozioni di due reporter” (Mondadori\, 2018\, con Gian Micalessin). Lo scorso febbraio è uscito “Verità infoibate”\, un libro denuncia scritto assieme a Matteo Carnieletto sulle atrocità delle Foibe e sull’Esodo Giuliano dalmata\, con le inchieste per scovare i persecutori degli Italiani nascosti in Istria. \nBiloslavo ha documentato – e possiamo dire sia stato l’unico a farlo sempre con serietà e senza giri di parole – attraverso centinaia di resoconti e dossier pubblicati sui giornali e periodici nazionali le scomode verità legate alle tremende vicende dell’esodo giuliano dalmata. \n
URL:https://www.unioneistriani.it/event/conferimento-a-fausto-biloslavo-del-vessillo-della-libera-provincia-dellistria/
LOCATION:Palazzo Tonello\, Via Silvio Pellico\, 2\, Trieste\, TS\, 34122\, Italia
CATEGORIES:Comunicati Stampa
ATTACH;FMTTYPE=image/jpeg:https://www.unioneistriani.it/wp-content/uploads/2021/09/Biloslavo.jpg
END:VEVENT
END:VCALENDAR