BEGIN:VCALENDAR
VERSION:2.0
PRODID:-//Unione degli Istriani - ECPv5.0.0.2//NONSGML v1.0//EN
CALSCALE:GREGORIAN
METHOD:PUBLISH
X-WR-CALNAME:Unione degli Istriani
X-ORIGINAL-URL:https://www.unioneistriani.it
X-WR-CALDESC:Eventi per Unione degli Istriani
BEGIN:VTIMEZONE
TZID:Europe/Rome
BEGIN:DAYLIGHT
TZOFFSETFROM:+0100
TZOFFSETTO:+0200
TZNAME:CEST
DTSTART:20190331T010000
END:DAYLIGHT
BEGIN:STANDARD
TZOFFSETFROM:+0200
TZOFFSETTO:+0100
TZNAME:CET
DTSTART:20191027T010000
END:STANDARD
END:VTIMEZONE
BEGIN:VEVENT
DTSTART;VALUE=DATE:20190124
DTEND;VALUE=DATE:20190125
DTSTAMP:20260421T121601
CREATED:20190124T090044Z
LAST-MODIFIED:20190419T092033Z
UID:1385-1548288000-1548374399@www.unioneistriani.it
SUMMARY:CELEBRAZIONE DEL GIORNO DEL RICORDO
DESCRIPTION:[vc_row][vc_column][/vc_column][/vc_row][vc_row][vc_column][vc_column_text] \nCOMUNICATO STAMPA \n“UN MEMBRO DEL GOVERNO SIA PRESENTE A BASOVIZZA ALLA CERIMONIA DEL GIORNO DEL RICORDO”. \nQuesto è\, in sostanza\, il messaggio contenuto in una lettera che l’Unione degli Istriani\, a firma del suo Presidente\, ha inviato nei giorni scorsi all’indirizzo di Palazzo Chigi – Presidenza del Consiglio dei Ministri affinchè un membro del Governo sia presente alla cerimonia solenne prevista per il prossimo 10 febbraio alla Foiba di Basovizza. \n“Sarebbe un gesto elegante\, di doveroso rispetto per l’intera comunità degli Esuli\, e pure politicamente rilevante poichè costituirebbe un segnale chiaro di discontinuità rispetto all’indifferenza del passato” si legge in un passaggio della missiva.”E’ da molti\, troppi anni che manca infatti la presenza dello Stato e del Governo nel luogo simbolo – Monumento nazionale\, non lo si dimentichi – della tragedia del confine orientale. L’ultimo a visitarla fu l’allora Presidente del Senato Renato Schifani\, il 10 febbraio 2012″. \nL’Unione degli Istriani confida anche nella già dimostrata sensibilità e nella autorevolezza del Presidente della Regione Friuli Venezia Giulia\, Massimiliano Fedriga\, affinchè l’auspicio di vedere a Trieste un membro del Governo nazionale si concretizzi diventando realtà.[/vc_column_text][/vc_column][/vc_row] \n
URL:https://www.unioneistriani.it/event/celebrazione-del-giorno-del-ricordo/
CATEGORIES:Comunicati Stampa
ATTACH;FMTTYPE=image/jpeg:https://www.unioneistriani.it/wp-content/uploads/2019/01/Basovizza.jpg
END:VEVENT
END:VCALENDAR