BEGIN:VCALENDAR
VERSION:2.0
PRODID:-//Unione degli Istriani - ECPv5.0.0.2//NONSGML v1.0//EN
CALSCALE:GREGORIAN
METHOD:PUBLISH
X-WR-CALNAME:Unione degli Istriani
X-ORIGINAL-URL:https://www.unioneistriani.it
X-WR-CALDESC:Eventi per Unione degli Istriani
BEGIN:VTIMEZONE
TZID:Europe/Rome
BEGIN:DAYLIGHT
TZOFFSETFROM:+0100
TZOFFSETTO:+0200
TZNAME:CEST
DTSTART:20220327T010000
END:DAYLIGHT
BEGIN:STANDARD
TZOFFSETFROM:+0200
TZOFFSETTO:+0100
TZNAME:CET
DTSTART:20221030T010000
END:STANDARD
END:VTIMEZONE
BEGIN:VEVENT
DTSTART;TZID=Europe/Rome:20220219T170000
DTEND;TZID=Europe/Rome:20220219T183000
DTSTAMP:20260421T162311
CREATED:20220212T082939Z
LAST-MODIFIED:20220212T082939Z
UID:3089-1645290000-1645295400@www.unioneistriani.it
SUMMARY:ANCHE A MACERATA LA PRESENTAZIONE DELLA NUOVA EDIZIONE DEL LIBRO DI ROBERTO MENIA
DESCRIPTION:Anche Macerata\, città partner dell’Unione degli Istriani grazie al Protocollo di Intesa recententemente approvato dall’Amministrazione comunale\, ospiterà un evento in coorganizzazione\, con la presentazione della seconda edizione arricchita del volume di Roberto Menia\, il padre del Giorno del Ricordo\, dal titolo “10 Febbraio. Dalle Foibe all’Esodo”\, finanziata dalla nostra Associazione. \n\nL’evento si svolgerà nell’auditorium della biblioteca comunale Mozzi-Borgetti e prevede oltre al saluto del Sindaco\, l’intervento del nostro preparatissimo e giovane Coordinatore regionale per le Marche\, Emanuele Piloni\, e dell’autore.\n\n  \n
URL:https://www.unioneistriani.it/event/anche-a-macerata-la-presentazione-della-nuova-edizione-del-libro-di-roberto-menia/
LOCATION:Macerata\, MC\, Italia
CATEGORIES:Comunicati Stampa
ATTACH;FMTTYPE=image/jpeg:https://www.unioneistriani.it/wp-content/uploads/2022/02/Macerata.2022.02.19.jpg
END:VEVENT
END:VCALENDAR