BEGIN:VCALENDAR
VERSION:2.0
PRODID:-//Unione degli Istriani - ECPv5.0.0.2//NONSGML v1.0//EN
CALSCALE:GREGORIAN
METHOD:PUBLISH
X-WR-CALNAME:Unione degli Istriani
X-ORIGINAL-URL:https://www.unioneistriani.it
X-WR-CALDESC:Eventi per Unione degli Istriani
BEGIN:VTIMEZONE
TZID:Europe/Rome
BEGIN:DAYLIGHT
TZOFFSETFROM:+0100
TZOFFSETTO:+0200
TZNAME:CEST
DTSTART:20220327T010000
END:DAYLIGHT
BEGIN:STANDARD
TZOFFSETFROM:+0200
TZOFFSETTO:+0100
TZNAME:CET
DTSTART:20221030T010000
END:STANDARD
END:VTIMEZONE
BEGIN:VEVENT
DTSTART;TZID=Europe/Rome:20220214T100000
DTEND;TZID=Europe/Rome:20220214T110000
DTSTAMP:20260421T205211
CREATED:20220215T072348Z
LAST-MODIFIED:20240807T080050Z
UID:3177-1644832800-1644836400@www.unioneistriani.it
SUMMARY:ACCORDO DI PARTENARIATO TRA L'UNIONE DEGLI ISTRIANI E LA FEDERAZIONE DEGLI ESULI IN CARINZIA
DESCRIPTION:Dopo le delibere dei rispettivi organi esecutivi\, nella mattinata di lunedì 14 febbraio 2022\, nella Sala della Dieta di Palazzo Tonello è stato sottoscritto l’Accordo di Cooperazione tra l’Unione degli Istriani e la Federazione degli Esuli tedeschi in Carinzia (ARGE Volksdeutsche Landsmannschaften) per la cogestione del Museo di cultura popolare di Gurk\, dove dal 2008 si trova una sezione specifica riguardante l’Esodo istriano\, fiumano e dalmata. \nIl documento\, sottoscritto dal Presidente Massimiliano Lacota e dall’omologo Karl Heinz Moschitz\, rappresenta anche uno strumento di collaborazione transfrontaliero che coinvolgerà direttamente la Regione Autonoma Friuli Venezia Giulia ed il Land della Carinzia su progetti specifici dedicati alla diffusione della storia degli Esodi avvenuti nei rispettivi territori. \nTra le finalità dell’accordo sono previsti scambi culturali e visite al Museo di Carattere Nazionale C.R.P. di Padriciano. \nNella foto\, la firma del documento\, resa alla presenza delle due Delegazioni. \n
URL:https://www.unioneistriani.it/event/accordo-di-partenariato-tra-lunione-degli-istriani-e-la-federazione-degli-esuli-in-carinzia/
LOCATION:Palazzo Tonello\, Via Silvio Pellico\, 2\, Trieste\, TS\, 34122\, Italia
CATEGORIES:Attività e Proposte
ATTACH;FMTTYPE=image/jpeg:https://www.unioneistriani.it/wp-content/uploads/2022/02/Partenariato.Federazione.Carinzia.jpg
END:VEVENT
END:VCALENDAR