BEGIN:VCALENDAR
VERSION:2.0
PRODID:-//Unione degli Istriani - ECPv5.0.0.2//NONSGML v1.0//EN
CALSCALE:GREGORIAN
METHOD:PUBLISH
X-WR-CALNAME:Unione degli Istriani
X-ORIGINAL-URL:https://www.unioneistriani.it
X-WR-CALDESC:Eventi per Unione degli Istriani
BEGIN:VTIMEZONE
TZID:Europe/Rome
BEGIN:DAYLIGHT
TZOFFSETFROM:+0100
TZOFFSETTO:+0200
TZNAME:CEST
DTSTART:20210328T010000
END:DAYLIGHT
BEGIN:STANDARD
TZOFFSETFROM:+0200
TZOFFSETTO:+0100
TZNAME:CET
DTSTART:20211031T010000
END:STANDARD
END:VTIMEZONE
BEGIN:VEVENT
DTSTART;TZID=Europe/Rome:20211106T183000
DTEND;TZID=Europe/Rome:20211106T200000
DTSTAMP:20260423T042255
CREATED:20211030T070033Z
LAST-MODIFIED:20211107T080923Z
UID:2858-1636223400-1636228800@www.unioneistriani.it
SUMMARY:A VILLORBA UNA MOSTRA SULLA DIFFICILE VITA DEGLI ESULI GIULIANO DALMATI NEI CAMPI PROFUGHI IN ITALIA
DESCRIPTION:Avrà luogo sabato 6 novembre 2021\, alle ore 18.30\, nella splendida cornice della barchessa di Villa Giovannina a Villorba (Treviso) la conferenza di inaugurazione di una mostra didattica sui campi profughi allestiti in Italia nel dopoguerra per accogliere le migliaia di Istriani\, Fiumanie e Dalmati in fuga dalle loro terre occupate dalla Jugoslavia di Tito. \nUna occasione importante per conoscere da vicino\, attraverso documentazioni e oggetti originali provenienti dalle collezioni del Museo di Carattere Nazionale CRP di Padriciano\, la molto spesso difficile accoglienza riservata ai nostri conterranei i quali\, perduta ogni cosa\, ricominciarono daccapo la loro esistenza\, rifacendosi con grande dignità una nuova vita nelle diverse regioni italiane in cui furono trasferiti. \nLa rassegna – patrocinata e sostenuta dal Comune di Villorba al quale siamo molto grati\, e resa possibile dallo splendido lavoro del nostro Coordinatore regionale per il Veneto Alessandro Toscani – sarà visitabile ogni settimana\, dal martedì alla domenica\, fino al 28 novembre. \n
URL:https://www.unioneistriani.it/event/a-villorba-una-mostra-sulla-difficile-vita-degli-esuli-giuliano-dalmati-nei-campi-profughi-in-italia/
LOCATION:Villa Giovannina\, via della Libertà 2\, Villorba (TV)\, Via della Libertà\, 2\, Villorba\, Treviso\, Italia
CATEGORIES:Comunicati Stampa
ATTACH;FMTTYPE=image/jpeg:https://www.unioneistriani.it/wp-content/uploads/2021/10/Villorba.jpg
END:VEVENT
END:VCALENDAR