BEGIN:VCALENDAR
VERSION:2.0
PRODID:-//Unione degli Istriani - ECPv5.0.0.2//NONSGML v1.0//EN
CALSCALE:GREGORIAN
METHOD:PUBLISH
X-WR-CALNAME:Unione degli Istriani
X-ORIGINAL-URL:https://www.unioneistriani.it
X-WR-CALDESC:Eventi per Unione degli Istriani
BEGIN:VTIMEZONE
TZID:Europe/Rome
BEGIN:DAYLIGHT
TZOFFSETFROM:+0100
TZOFFSETTO:+0200
TZNAME:CEST
DTSTART:20220327T010000
END:DAYLIGHT
BEGIN:STANDARD
TZOFFSETFROM:+0200
TZOFFSETTO:+0100
TZNAME:CET
DTSTART:20221030T010000
END:STANDARD
END:VTIMEZONE
BEGIN:VEVENT
DTSTART;VALUE=DATE:20220312
DTEND;VALUE=DATE:20220320
DTSTAMP:20260425T133421
CREATED:20220306T094644Z
LAST-MODIFIED:20220306T094644Z
UID:3402-1647043200-1647734399@www.unioneistriani.it
SUMMARY:A TRIESTE\, VENEZIA E PIRANO TRE SPETTACOLI MUSICALI PER RICORDARE L'ESODO
DESCRIPTION:\nA cura della nostra Sezione musicale\, presieduta dal Maestro Elia Macrí\, avranno luogo nel mese di marzo tre rappresentazioni dello spettacolo teatrale dedicato all’Esodo giuliano dalmata\, dal titolo “Storia dall’isola senza nome”\, ideato dal giovanissimo Davide Rossi.\n\n\nIl primo appuntamento è nella Città Madre\, Venezia\, per sabato 12 marzo\, alle ore 17.30\, in Calle San Domenico\, presso il teatro del Patronato salesiano.\n\n\nIl secondo appuntamento è per domenica 13 marzo\, alle ore 17.30\, a Pirano\, nella Casa delle Vedute di Casa Tartini.\n\n\nLa terza rappresentazione avrà luogo invece a Trieste\, sabato 19 marzo\, alle ore 18.00\, nel Teatro dei Fabbri.\n\n
URL:https://www.unioneistriani.it/event/a-trieste-venezia-e-pirano-tre-spettacoli-musicali-per-ricordare-lesodo/
CATEGORIES:Comunicati Stampa
ATTACH;FMTTYPE=image/jpeg:https://www.unioneistriani.it/wp-content/uploads/2022/03/Isola.senza_.nome_.2022.03.12.jpg
END:VEVENT
END:VCALENDAR