BEGIN:VCALENDAR
VERSION:2.0
PRODID:-//Unione degli Istriani - ECPv5.0.0.2//NONSGML v1.0//EN
CALSCALE:GREGORIAN
METHOD:PUBLISH
X-WR-CALNAME:Unione degli Istriani
X-ORIGINAL-URL:https://www.unioneistriani.it
X-WR-CALDESC:Eventi per Unione degli Istriani
BEGIN:VTIMEZONE
TZID:Europe/Rome
BEGIN:DAYLIGHT
TZOFFSETFROM:+0100
TZOFFSETTO:+0200
TZNAME:CEST
DTSTART:20220327T010000
END:DAYLIGHT
BEGIN:STANDARD
TZOFFSETFROM:+0200
TZOFFSETTO:+0100
TZNAME:CET
DTSTART:20221030T010000
END:STANDARD
END:VTIMEZONE
BEGIN:VEVENT
DTSTART;TZID=Europe/Rome:20220219T170000
DTEND;TZID=Europe/Rome:20220219T180000
DTSTAMP:20260421T175451
CREATED:20220218T074002Z
LAST-MODIFIED:20220218T074248Z
UID:3269-1645290000-1645293600@www.unioneistriani.it
SUMMARY:A MACERATA PRESENTAZIONE DELL'EDIZIONE AMPLIATA DEL LIBRO DI ROBERTO MENIA
DESCRIPTION:Sabato 19 febbraio alle ore 17\, presso l’Auditorium della biblioteca comunale Mozzi-Borgetti di Macerata\, verrà presentata la nuova edizione implementata del libro dell’on. Roberto Menia\, padre del Giorno del Ricordo e nostro illustre socio\, intitolato “10 Febbraio. Dalle Foibe all’Esodo” e finanziato dalla nostra Associazione. \nL’evento\, organizzato nel quadro delle iniziative volte a celebrare il Giorno del Ricordo\, verrà realizzato dal Comune di Macerata in collaborazione con l’Unione degli Istriani\, con la quale l’amministrazione ha recentemente sottoscritto un Protocollo d’intesa per diffondere ed approfondire i drammi delle foibe e dell’Esodo giuliano dalmata\, in particolare negli istituti scolastici. \nLa giornata\, alla quale sarà presente anche il nostro presidente Massimiliano Lacota\, si aprirà con i saluti del sindaco Parcaroli e degli assessori Cassetta e Renna\, fautori della sottoscrizione del Protocollo d’intesa con la nostra Associazione\, e proseguirà con un’introduzione del nostro coordinatore per le Marche Emanuele Piloni che\, infine\, lascerà la parola all’on. Roberto Menia. \n
URL:https://www.unioneistriani.it/event/a-macerata-presentazione-delledizione-ampliata-del-libro-di-roberto-menia/
LOCATION:Macerata\, MC\, Italia
CATEGORIES:Comunicati Stampa
ATTACH;FMTTYPE=image/jpeg:https://www.unioneistriani.it/wp-content/uploads/2022/02/Macerata.2022.02.19-1.jpg
END:VEVENT
END:VCALENDAR