BEGIN:VCALENDAR
VERSION:2.0
PRODID:-//Unione degli Istriani - ECPv5.0.0.2//NONSGML v1.0//EN
CALSCALE:GREGORIAN
METHOD:PUBLISH
X-WR-CALNAME:Unione degli Istriani
X-ORIGINAL-URL:https://www.unioneistriani.it
X-WR-CALDESC:Eventi per Unione degli Istriani
BEGIN:VTIMEZONE
TZID:Europe/Rome
BEGIN:DAYLIGHT
TZOFFSETFROM:+0100
TZOFFSETTO:+0200
TZNAME:CEST
DTSTART:20220327T010000
END:DAYLIGHT
BEGIN:STANDARD
TZOFFSETFROM:+0200
TZOFFSETTO:+0100
TZNAME:CET
DTSTART:20221030T010000
END:STANDARD
END:VTIMEZONE
BEGIN:VEVENT
DTSTART;VALUE=DATE:20220312
DTEND;VALUE=DATE:20220313
DTSTAMP:20260425T102458
CREATED:20220307T070105Z
LAST-MODIFIED:20240807T082157Z
UID:3405-1647043200-1647129599@www.unioneistriani.it
SUMMARY:A CASTEGNATO LA FIRMA DEL PROTOCOLLO DI INTESA TRA COMUNE E UNIONE DEGLI ISTRIANI
DESCRIPTION:Sabato 12 marzo\, nella sede municipale\, avrà luogo la firma del Protocollo di Intesa tra il Comune di Castegnato (Brescia) e l’Unione degli Istriani. \nA sottoscrivere il documento\, che sancirà la collaborazione per lo sviluppo di progetti ed iniziative dedicate alla diffusione sul territorio comunale dei drammi delle Foibe e dell‘Esodo giuliano dalmata\, ci saranno il Sindaco Gianluca Cominassi ed il nostro Presidente Massimiliano Lacota. \nPrima della firma verrà inaugurata la mostra su Esodo e Campi profughi\, realizzata dalla nostra Associazione. \nRingraziamo il nostro Coordinatore regionale Lorenzo Galli per il suo proficuo ed incessante impegno\, così come l’Amministrazione comunale per la sensibilità dimostrata. \nFoto: Villa Baitella\, Comune di Castegnato. \na \n\n			\n				\n			\n		\n\n
URL:https://www.unioneistriani.it/event/a-castegnato-la-firma-del-protocollo-di-intesa-tra-comune-e-unione-degli-istriani/
LOCATION:Castegnato\, BS\, Italia
CATEGORIES:Comunicati Stampa
ATTACH;FMTTYPE=image/jpeg:https://www.unioneistriani.it/wp-content/uploads/2022/03/Castegnato.Protocollo.jpg
END:VEVENT
END:VCALENDAR