BEGIN:VCALENDAR
VERSION:2.0
PRODID:-//Unione degli Istriani - ECPv5.0.0.2//NONSGML v1.0//EN
CALSCALE:GREGORIAN
METHOD:PUBLISH
X-WR-CALNAME:Unione degli Istriani
X-ORIGINAL-URL:https://www.unioneistriani.it
X-WR-CALDESC:Eventi per Unione degli Istriani
BEGIN:VTIMEZONE
TZID:Europe/Rome
BEGIN:DAYLIGHT
TZOFFSETFROM:+0100
TZOFFSETTO:+0200
TZNAME:CEST
DTSTART:20210328T010000
END:DAYLIGHT
BEGIN:STANDARD
TZOFFSETFROM:+0200
TZOFFSETTO:+0100
TZNAME:CET
DTSTART:20211031T010000
END:STANDARD
END:VTIMEZONE
BEGIN:VEVENT
DTSTART;VALUE=DATE:20211114
DTEND;VALUE=DATE:20211201
DTSTAMP:20260421T164323
CREATED:20211114T125719Z
LAST-MODIFIED:20211114T125719Z
UID:2615-1636848000-1638316799@www.unioneistriani.it
SUMMARY:BANDO DI SELEZIONE PER L’INCARICO DI GIOVANI COORDINATORI REGIONALI
DESCRIPTION:L’Unione degli Istriani intende individuare 5 persone giovani\, preparate e disponibili a rappresentare l’Associazione nelle seguenti Regioni d’Italia: Liguria\, Emilia-Romagna e Abruzzo. \nTutti coloro che sono intenzionati a partecipare possono inviare il proprio curriculum vitae dettagliato a info@unioneistriani.it entro e non oltre il 30 novembre 2021. \nOgni ulteriore informazione potrà essere fornita scrivendo sempre allo stesso indirizzo. \n
URL:https://www.unioneistriani.it/event/bando-di-selezione-per-lincarico-di-giovani-coordinatori-regionali/
LOCATION:Palazzo Tonello\, Via Silvio Pellico\, 2\, Trieste\, TS\, 34122\, Italia
CATEGORIES:Comunicati Stampa
ATTACH;FMTTYPE=image/jpeg:https://www.unioneistriani.it/wp-content/uploads/2021/11/Regioni.jpg
END:VEVENT
BEGIN:VEVENT
DTSTART;TZID=Europe/Rome:20211127T170000
DTEND;TZID=Europe/Rome:20211127T183000
DTSTAMP:20260421T164323
CREATED:20211123T173728Z
LAST-MODIFIED:20211126T085901Z
UID:2896-1638032400-1638037800@www.unioneistriani.it
SUMMARY:MOSTRA SUI CAMPI PROFUGHI A PIOMBINO
DESCRIPTION:Due eventi – resi possibili grazie al dinamismo del nostro Coordinatore regionale Giampaolo Giannelli – avranno luogo nella stupenda Toscana: si tratta di due mostre didattiche\, con l’esposizione di masserizie originali provenienti dalle collezioni del Museo di Carattere Nazionale CRP di Padriciano. \nLa prima mostra sarà inaugurata a Piombino (Livorno)\, sabato 27 novembre alle ore 17.00\, a Palazzo Appiani\, alla presenza del Sindaco Francesco Ferrari\, del Presidente Massimiliano Lacota e del nostro Coordinatore regionale Giampaolo Giannelli. \n
URL:https://www.unioneistriani.it/event/mostra-sui-campi-profughi-a-piombino/
LOCATION:Palazzo Appiani (Museo del Mare)\, Piazza Giovanni Bovio\, 3\, Piombino\, TS\, Italia
CATEGORIES:Comunicati Stampa
ATTACH;FMTTYPE=image/jpeg:https://www.unioneistriani.it/wp-content/uploads/2021/11/Piombino.jpg
END:VEVENT
END:VCALENDAR