BEGIN:VCALENDAR
VERSION:2.0
PRODID:-//Unione degli Istriani - ECPv5.0.0.2//NONSGML v1.0//EN
CALSCALE:GREGORIAN
METHOD:PUBLISH
X-WR-CALNAME:Unione degli Istriani
X-ORIGINAL-URL:https://www.unioneistriani.it
X-WR-CALDESC:Eventi per Unione degli Istriani
BEGIN:VTIMEZONE
TZID:Europe/Rome
BEGIN:DAYLIGHT
TZOFFSETFROM:+0100
TZOFFSETTO:+0200
TZNAME:CEST
DTSTART:20260329T010000
END:DAYLIGHT
BEGIN:STANDARD
TZOFFSETFROM:+0200
TZOFFSETTO:+0100
TZNAME:CET
DTSTART:20261025T010000
END:STANDARD
END:VTIMEZONE
BEGIN:VEVENT
DTSTART;VALUE=DATE:20260219
DTEND;VALUE=DATE:20260221
DTSTAMP:20260420T221839
CREATED:20260223T140246Z
LAST-MODIFIED:20260223T140246Z
UID:5356-1771459200-1771631999@www.unioneistriani.it
SUMMARY:GIORNO DEL RICORDO\, NEL COMUNE PARTNER DI PASTRENGO IL DOLORE DELLA STRAGE DI VERGAROLLA
DESCRIPTION:Nella splendida cornice del forte Degenfeld\, uno dei 4 forti costruiti dagli austriaci sui colli che circondano Pastrengo (Verona) a ridosso del primo conflitto mondiale per chiudere agli italiani la val d’Adige e la possibilità di arrivare in Austria da Sud\, il Comune partner ha organizzato una splendida serata in occasione del Giorno del Ricordo 2026. \nAll’evento\, svoltosi lo scorso 19 febbraio\, per l’amministrazione comunale era presente il Consigliere Romeo Pavoni\, anima di questo come di tanti altri progetti a contenuto storico cui va un grande ringraziamento. \nUna serata molto partecipata soprattutto dai cittadini di Pastrengo che hanno seguito con trasporto emotivo il racconto del nostro straordinario Gianni Nardin sulla strage di Vergarolla e la tragica storia di Geppino Micheletti\, di cui Nardin è pronipote e di cui ricorre quest’anno l’80esimo anniversario. \nPresenti le Associazioni d’arma (sempre emozionante l’esposizione dei labari durante l’esecuzione dell’inno italiano) e due esuli di prima generazione che al termine della conferenza hanno voluto ringraziare l’Unione degli Istriani e i suoi relatori per la precisione e la chiarezza dei contenuti. In particolare\, il nostro abbraccio a Elio Marangoni che proprio il 20 febbraio ha compiuto gli anni ed è stato testimone diretto dell’esplosione di Vergarolla trovandosi dalla parte opposta della baia al momento della deflagrazione delle mine. \nIl giorno successivo\, venerdì 20 febbraio\, c’è stata la replica della conferenza per le classi terze delle scuole medie di Pastrengo e anche in questa occasione è stata grande l’attenzione per le vicende istriane da parte di alunni e insegnanti. \nGrazie all’amministrazione comunale di Pastrengo con la quale nel corso del mese di marzo verrà formalizzato il Protocollo di Intesa nell’ambito di una visita a Trieste della Giunta\, alle associazioni d’arma e soprattutto al Gruppo Alpini per l’organizzazione della serata. \nE bravo il nostro super Coordinatore regionale per il Veneto Alessandro Toscani! \na \n\n			\n				\n			\n			\n				\n			\n		\n\na \n\n			\n				\n			\n			\n				\n			\n		\n\n
URL:https://www.unioneistriani.it/event/giorno-del-ricordo-nel-comune-partner-di-pastrengo-il-dolore-della-strage-di-vergarolla/
LOCATION:Pastrengo\, VR\, Italia
CATEGORIES:Attività e Proposte
ATTACH;FMTTYPE=image/jpeg:https://www.unioneistriani.it/wp-content/uploads/2026/02/Pastrengo_2026.02.19.jpg
END:VEVENT
BEGIN:VEVENT
DTSTART;VALUE=DATE:20260220
DTEND;VALUE=DATE:20260221
DTSTAMP:20260420T221839
CREATED:20260221T070455Z
LAST-MODIFIED:20260221T070455Z
UID:5320-1771545600-1771631999@www.unioneistriani.it
SUMMARY:GIORNO DEL RICORDO\, NELLA CITTÀ PARTNER DI MUSILE DI PIAVE INAUGURATO IL MONUMENTO DEDICATO AI MARTIRI DELLE FOIBE
DESCRIPTION:Nella mattinata di venerdì 20 febbraio nel nuovo curatissimo Parco Martiri delle Foibe della città partner di Musile di Piave (Venezia) è stato inaugurato il Monumento frutto della sinergia tra amministrazione comunale e Unione degli Istriani. \n“In memoria dei Martiri delle Foibe e dei Trecentocinquantamila Esuli italiani di Istria\, Fiume e Dalmazia” e più sotto “La città di Musile di Piave con il contributo dell’Unione degli Istriani – 10 Febbraio 2026” si legge infatti in una targa in basso sul bel manufatto\, realizzato a tempo di record\, che ha la particolarità di rappresentare la sezione di una Foiba e di raccontare visivamente l’infoibamento di due prigionieri\, uno dei quali mentre precipita nell’orrido. \nInizialmente prevista per giovedì 19 febbraio e poi spostata al giorno dopo a causa delle avverse condizioni meteo\, la cerimonia ha visto una folta partecipazione di pubblico e di associazioni combattentistiche e d’arma\, nonché di Sindaci ed esponenti istituzionali del territorio del Piave. \nA rappresentare gli Enti realizzatori sono stati il Sindaco Silvia Susanna ed il Vicecoordinatore dell’Unione degli Istriani per il Veneto Luigi Bona\, che ringraziamo assieme all’Assessore Luca Rossi ed a tutti coloro che hanno lavorato dietro le quinte. \nUn bell’esempio\, questo\, di come una seria e proficua collaborazione possa portare a risultati straordinari. \nAspettiamo a Trieste la Giunta comunale di Musile per accompagnarla nella visita dei principali siti del ricordo nella Venezia Giulia e della nostra sede di Palazzo Tonello. \na \n\n			\n				\n			\n			\n				\n			\n			\n				\n			\n		\n\na \n\n			\n				\n			\n			\n				\n			\n			\n				\n			\n		\n\na \n\n			\n				\n			\n			\n				\n			\n			\n				\n			\n		\n\n
URL:https://www.unioneistriani.it/event/giorno-del-ricordo-nella-citta-partner-di-musile-di-piave-inaugurato-il-monumento-dedicato-ai-martiri-delle-foibe/
LOCATION:Musile di Piave\, VE\, Italia
CATEGORIES:Attività e Proposte
ATTACH;FMTTYPE=image/jpeg:https://www.unioneistriani.it/wp-content/uploads/2026/02/MusilePiave_2026.02.20.jpg
END:VEVENT
END:VCALENDAR