BEGIN:VCALENDAR
VERSION:2.0
PRODID:-//Unione degli Istriani - ECPv5.0.0.2//NONSGML v1.0//EN
CALSCALE:GREGORIAN
METHOD:PUBLISH
X-WR-CALNAME:Unione degli Istriani
X-ORIGINAL-URL:https://www.unioneistriani.it
X-WR-CALDESC:Eventi per Unione degli Istriani
BEGIN:VTIMEZONE
TZID:Europe/Rome
BEGIN:DAYLIGHT
TZOFFSETFROM:+0100
TZOFFSETTO:+0200
TZNAME:CEST
DTSTART:20260329T010000
END:DAYLIGHT
BEGIN:STANDARD
TZOFFSETFROM:+0200
TZOFFSETTO:+0100
TZNAME:CET
DTSTART:20261025T010000
END:STANDARD
END:VTIMEZONE
BEGIN:VEVENT
DTSTART;VALUE=DATE:20260207
DTEND;VALUE=DATE:20260211
DTSTAMP:20260422T083513
CREATED:20260207T145606Z
LAST-MODIFIED:20260207T145606Z
UID:5144-1770422400-1770767999@www.unioneistriani.it
SUMMARY:APERTURA STRAORDINARIA AD INGRESSO GRATUITO DEL MUSEO DI CARATTERE NAZIONALE CRP DI PADRICIANO DAL 7 AL 10 FEBBRAIO 2026
DESCRIPTION:Da sabato 7 febbraio a martedì 10 febbraio 2026\, il Museo di Carattere Nazionale CRP di Padriciano è aperto al pubblico\, con ingresso libero\, dalle ore 10.00 alle ore 16.30. \n
URL:https://www.unioneistriani.it/event/apertura-straordinaria-ad-ingresso-gratuito-del-museo-di-carattere-nazionale-crp-di-padriciano-dal-7-al-10-febbraio-2026/
LOCATION:C.R.P. Padriciano\, SP1\, Padriciano\, TS\, 34149\, Italia
CATEGORIES:Attività e Proposte
ATTACH;FMTTYPE=image/jpeg:https://www.unioneistriani.it/wp-content/uploads/2025/02/CRP.jpg
END:VEVENT
END:VCALENDAR