BEGIN:VCALENDAR
VERSION:2.0
PRODID:-//Unione degli Istriani - ECPv5.0.0.2//NONSGML v1.0//EN
CALSCALE:GREGORIAN
METHOD:PUBLISH
X-WR-CALNAME:Unione degli Istriani
X-ORIGINAL-URL:https://www.unioneistriani.it
X-WR-CALDESC:Eventi per Unione degli Istriani
BEGIN:VTIMEZONE
TZID:Europe/Rome
BEGIN:DAYLIGHT
TZOFFSETFROM:+0100
TZOFFSETTO:+0200
TZNAME:CEST
DTSTART:20220327T010000
END:DAYLIGHT
BEGIN:STANDARD
TZOFFSETFROM:+0200
TZOFFSETTO:+0100
TZNAME:CET
DTSTART:20221030T010000
END:STANDARD
END:VTIMEZONE
BEGIN:VEVENT
DTSTART;VALUE=DATE:20220401
DTEND;VALUE=DATE:20220402
DTSTAMP:20260424T200143
CREATED:20220407T083909Z
LAST-MODIFIED:20220407T083909Z
UID:3470-1648771200-1648857599@www.unioneistriani.it
SUMMARY:PRESENTAZIONE DEL LIBRO "10 FEBBRAIO. DALLE FOIBE ALL'ESODO" DI ROBERTO MENIA A PAGANI 
DESCRIPTION:Si è tenuta nel pomeriggio del primo aprile scorso a Pagani (Salerno) la presentazione del libro del nostro Roberto Menia\, intitolato “10 Febbraio. Dalle Foibe all’Esodo” e finanziato dall’Unione degli Istriani. \nPresenti all’Auditorium S. Alfonso con l’autore\, Padre del Giorno del Ricordo\, il Sindaco Raffaele Maria De Prisco\, il Vicesindaco Valentina Oliva\, il ricercatore di storia locale Marcello Sforza ed il nostro dinamicissimo Coordinatore Regionale per la Campania\, Giuseppe Sartore. \nGrazie all’impegno di tutti\, l’evento ha dimostrato che Pagani non vuole dimenticare la nostra storia. \na \n\n			\n				\n			\n			\n				\n			\n		\n\n
URL:https://www.unioneistriani.it/event/presentazione-del-libro-10-febbraio-dalle-foibe-allesodo-di-roberto-menia-a-pagani/
LOCATION:Pagani\, NA\, Italia
CATEGORIES:Attività e Proposte
ATTACH;FMTTYPE=image/jpeg:https://www.unioneistriani.it/wp-content/uploads/2022/04/Pagani.2022.04.01-1.jpg
END:VEVENT
END:VCALENDAR