BEGIN:VCALENDAR
VERSION:2.0
PRODID:-//Unione degli Istriani - ECPv5.0.0.2//NONSGML v1.0//EN
CALSCALE:GREGORIAN
METHOD:PUBLISH
X-WR-CALNAME:Unione degli Istriani
X-ORIGINAL-URL:https://www.unioneistriani.it
X-WR-CALDESC:Eventi per Unione degli Istriani
BEGIN:VTIMEZONE
TZID:Europe/Rome
BEGIN:DAYLIGHT
TZOFFSETFROM:+0100
TZOFFSETTO:+0200
TZNAME:CEST
DTSTART:20220327T010000
END:DAYLIGHT
BEGIN:STANDARD
TZOFFSETFROM:+0200
TZOFFSETTO:+0100
TZNAME:CET
DTSTART:20221030T010000
END:STANDARD
END:VTIMEZONE
BEGIN:VEVENT
DTSTART;TZID=Europe/Rome:20220226T100000
DTEND;TZID=Europe/Rome:20220226T110000
DTSTAMP:20260422T155126
CREATED:20220301T082323Z
LAST-MODIFIED:20240807T081345Z
UID:3369-1645869600-1645873200@www.unioneistriani.it
SUMMARY:A PONTECORVO UNA BELLA INIZIATIVA CON LE SCUOLE PER IL GIORNO DEL RICORDO
DESCRIPTION:Sabato 26 febbraio 2022 ha avuto luogo nell’Aula consiliare di Pontecorvo (Frosinone) la commemorazione del Giorno del Ricordo organizzata dal Comune in partenariato con l’Unione degli Istriani. \nAlla presenza della Presidente del Consiglio comunale\, Katiuscia Mulattieri\, e dal Sindaco Anselmo Rotondo\, l’incontro ha visto gli interventi della nostra solare e brillante Simona Pellis\, nelle vesti di Coordinatore regionale per il Lazio\, quella di Giovanna Tognon\, figlia di un esule da Pola che si salvò con il fratello più piccolo dalla Strage di Vergarolla\, e di Enrico de Cristofaro\, della nostra Delegazione di Roma\, il quale ha tracciato un quadro storico della vicenda delle Foibe e dell’Esodo. \nStupenda la partecipazione degli studenti degli Istituti comprensivi I\, II e Superiore di Pontecorvo\, i quali\, molto preparati sull’argomento grazie agli insegnanti\, hanno pure realizzato degli elaborati \nSimona Pellis\, nei suoi interventi rivolti ai ragazzi\, ha voluto far capire meglio le ragioni per cui proprio la data del Trattato di Pace di Parigi sia divenuta rappresentativa della nostra tragedia\, spiegando che prima di allora esisteva in Italia una grande regione\, la Venezia Giulia\, che dopo la guerra venne ceduta alla Jugoslavia e talmente smembrata e ridotta da doversi unire al Friuli. Tale determinazione è stata oltretutto fortemente iniqua per l’Italia\, per quanto sconfitta nel conflitto\, e non teneva conto del radicamento della cultura italiana delle genti di quelle terre che il Trattato inevitabilmente condannò all’esilio. La ragione per cui si arrivò a questo fu chiaramente spiegato da uno dei nostri Presidenti della Repubblica italiana\, Giorgio Napolitano\, che nel 2007 dichiarò che “un disegno annessionistico slavo prevalse nel Trattato di Parigi” attuato con un violento sradicamento della presenza italiana in quelle terre. \nE’ stata poi proiettata la testimonianza della vedova di Geppino Micheletti\, l’Eroe di Vergarolla. \nMolto bello\, infine\, anche l’incontro con le docenti\, una delle quali\, Sabrina Braico\, figlia di un Esule da Rovigno. \nDi seguito alcune immagini dell’evento e degli splendidi e significativi elaborati dei ragazzi. \na \n\n			\n				\n			\n		\n\na \n\n			\n				\n			\n		\n\na \n\n			\n				\n			\n		\n\na \n\n			\n				\n			\n		\n\n
URL:https://www.unioneistriani.it/event/a-pontecorvo-una-bella-iniziativa-con-le-scuole-per-il-giorno-del-ricordo/
LOCATION:Pontecorvo\, FR\, Italia
CATEGORIES:Attività e Proposte
ATTACH;FMTTYPE=image/jpeg:https://www.unioneistriani.it/wp-content/uploads/2022/03/Pontecorvo.2022.02.26.jpg
END:VEVENT
END:VCALENDAR