BEGIN:VCALENDAR
VERSION:2.0
PRODID:-//Unione degli Istriani - ECPv5.0.0.2//NONSGML v1.0//EN
CALSCALE:GREGORIAN
METHOD:PUBLISH
X-WR-CALNAME:Unione degli Istriani
X-ORIGINAL-URL:https://www.unioneistriani.it
X-WR-CALDESC:Eventi per Unione degli Istriani
BEGIN:VTIMEZONE
TZID:Europe/Rome
BEGIN:DAYLIGHT
TZOFFSETFROM:+0100
TZOFFSETTO:+0200
TZNAME:CEST
DTSTART:20220327T010000
END:DAYLIGHT
BEGIN:STANDARD
TZOFFSETFROM:+0200
TZOFFSETTO:+0100
TZNAME:CET
DTSTART:20221030T010000
END:STANDARD
END:VTIMEZONE
BEGIN:VEVENT
DTSTART;TZID=Europe/Rome:20220215T100000
DTEND;TZID=Europe/Rome:20220217T130000
DTSTAMP:20260421T230437
CREATED:20220217T154552Z
LAST-MODIFIED:20220217T154552Z
UID:3260-1644919200-1645102800@www.unioneistriani.it
SUMMARY:SAN BIAGIO DI CALLALTA\, BOOM DI SCUOLE IN VISITA ALLA MOSTRA SU ESODO E CAMPI PROFUGHI
DESCRIPTION:La mostra sull’Esodo e sui Campi profughi allestita dall’Unione degli Istriani a San Biagio di Callalta (Treviso) presso il Polo culturale Skholè sta riscuotendo un grande successo tra le scuole del territorio. \nDopo la mattinata di martedì 15 febbraio\, in cui 7 classi delle scuole medie sono state accompagnate dal nostro attivissimo Coordinatore Regionale per il Veneto\, Alessandro Toscani\, oggi si è completato il ciclo di visite guidate con altrettante classi che si sono avvalse delle competenze della Vicepresidente Nelia Verginella e della nostra Roberta Fava. \nNel complesso\, quindi\, sono state ben 14 le  classi che hanno visitato la mostra per un totale di circa 300 ragazzi. \nLa mostra rimarrà aperta fino a domenica 27 febbraio. \nIntanto domenica 20 febbraio\, nel pomeriggio\, verrà presentata la edizione anastatica\, fresca di stampa\, dei due volumi de “La Dalmazia”\, a cura del  Presidente Massimiliano Lacota\, realizzata nel 1918 dal grande geografo e geologo fiorentino Giotto Dainelli. \nDavvero un plauso al Comune di San Biagio di Callalta per la dedizione e l’accuratezza con cui ha organizzato ed ospitato le nostre iniziative dedicate al Giorno del Ricordo\, così come al Coordinatore Alessandro Toscani per il suo straordinario impegno. \nDi seguito alcune foto delle visite guidate per le scuole. \na \n\n			\n				\n			\n			\n				\n			\n		\n\na \n\n			\n				\n			\n			\n				\n			\n		\n\na \n\n			\n				\n			\n			\n				\n			\n		\n\n
URL:https://www.unioneistriani.it/event/san-biagio-di-callalta-boom-di-scuole-in-visita-alla-mostra-su-esodo-e-campi-profughi/
LOCATION:S. Biagio di Callalta\, TV\, Italia
CATEGORIES:Attività e Proposte
ATTACH;FMTTYPE=image/jpeg:https://www.unioneistriani.it/wp-content/uploads/2022/02/S.Biagio-1.jpg
END:VEVENT
BEGIN:VEVENT
DTSTART;VALUE=DATE:20220216
DTEND;VALUE=DATE:20220217
DTSTAMP:20260421T230437
CREATED:20220303T080659Z
LAST-MODIFIED:20220303T080659Z
UID:3376-1644969600-1645055999@www.unioneistriani.it
SUMMARY:GIORNO DEL RICORDO\, AD IVREA UN IMPORTANTE EVENTO CON LA COLLABORAZIONE DELL' UNIONE DEGLI ISTRIANI
DESCRIPTION:Lo scorso 16 febbraio ad Ivrea ha avuto luogo\, alla presenza di un importante parterre istituzionale\, la presentazione del volume di Roberto Menia dal titolo «10 febbraio\, dalle Foibe all’esodo»\, finanziato dall’Unione degli Istriani. \nAssieme al Padre del Giorno del Ricordo\, introdotti dal nostro giovanissimo Coordinatore regionale per il Piemonte\, Alessandro Schirru\, e dal nostro Presidente Massimiliano Lacota\, sono intervenuti l’Assessore regionale alla Cultura\, Vittoria Poggi\, il Sindaco Stefano Sertoli\, gli Assessori comunali alla istruzione e alla cultura Giorgia Povolo e Costanza Casali\, ed il Consigliere Regionale Andrea Cane. \nNel suo intervento l’Assessore regionale ha ribadito la volontà della Regione Piemonte di sottoscrivere un Protocollo di Intesa con l’Unione degli Istriani\, volontà confermata dal Consigliere regionale Andrea Cane. \nGrazie al nostro Alessandro ed all’Assessore Povolo per aver reso possibile l’incontro! \nDi seguito alcune immagini dell’evento. \na \n\n			\n				\n			\n			\n				\n			\n		\n\na \n\n			\n				\n			\n			\n				\n			\n		\n\na \n\n			\n				\n			\n		\n\na \n\n			\n				\n			\n		\n\na \n\n			\n				\n			\n		\n\n
URL:https://www.unioneistriani.it/event/giorno-del-ricordo-ad-ivrea-un-importante-evento-con-la-collaborazione-dell-unione-degli-istriani/
LOCATION:Ivrea\, TO\, Italia
CATEGORIES:Attività e Proposte
ATTACH;FMTTYPE=image/jpeg:https://www.unioneistriani.it/wp-content/uploads/2022/03/Ivrea.2022.02.16.jpg
END:VEVENT
END:VCALENDAR