BEGIN:VCALENDAR
VERSION:2.0
PRODID:-//Unione degli Istriani - ECPv5.0.0.2//NONSGML v1.0//EN
CALSCALE:GREGORIAN
METHOD:PUBLISH
X-WR-CALNAME:Unione degli Istriani
X-ORIGINAL-URL:https://www.unioneistriani.it
X-WR-CALDESC:Eventi per Unione degli Istriani
BEGIN:VTIMEZONE
TZID:Europe/Rome
BEGIN:DAYLIGHT
TZOFFSETFROM:+0100
TZOFFSETTO:+0200
TZNAME:CEST
DTSTART:20220327T010000
END:DAYLIGHT
BEGIN:STANDARD
TZOFFSETFROM:+0200
TZOFFSETTO:+0100
TZNAME:CET
DTSTART:20221030T010000
END:STANDARD
END:VTIMEZONE
BEGIN:VEVENT
DTSTART;TZID=Europe/Rome:20220212T100000
DTEND;TZID=Europe/Rome:20220212T110000
DTSTAMP:20260421T164256
CREATED:20220213T064951Z
LAST-MODIFIED:20220213T064951Z
UID:3103-1644660000-1644663600@www.unioneistriani.it
SUMMARY:GIORNO DEL RICORDO\, STAMANE LE CERIMONIE A MUGGIA\, L'UNICA CITTÀ ISTRIANA RIMASTA ALL'ITALIA
DESCRIPTION:\n\n\nOrganizzate dall’Amministrazione comunale\, hanno avuto luogo nella mattina di sabato 12 febbraio a Muggia\, l’unica città istriana rimasta all’Italia dopo i trattati punitivi del secondo dopoguerra\, due cerimonie legate al Giorno del Ricordo. \n\nAlle ore 10.00 è stata deposta al monumento della rotatoria di Rabuiese una prima corona di alloro\, scortata dal Sindaco Paolo Polidori – il nostro Paolo Polidori\, il “Sindaco del 12 giugno”\, con il quale l’Unione degli Istriani è stata in grado\, dopo oltre un decennio di richieste\, di elevare quella data a “Giornata della Liberazione della città di Trieste dall’occupazione jugoslava” – dal Vicesindaco Nicola Delconte\, e dall’Assessore comunale di Trieste\, Nicole Matteoni.\n\n\nA seguire\, presso il vecchio posto di blocco del valico di confine secondario di Cerei\, è stata per la prima volta deposta una seconda corona\, cui è seguito un significativo intervento del Sindaco\, che ha ricordato l’esodo di oltre 3.000 cittadini dai villaggi circostanti inglobati dalla Jugoslavia dopo la ulteriore rettifica della linea del confine stabilito dal Memorandum di Londra del 1954\, richiesto e ottenuto da Tito (la cosiddetta “Operazione giardinaggio”) con la conseguente perdita ulteriore di un terzo del territorio comunale.\n\n\nAd entrambe le cerimonie erano presenti per l’Unione degli Istriani il Presidente Massimiliano Lacota ed alcuni Consiglieri di Giunta.\n\n\nDi seguito alcune immagini.\na\n\n\n			\n				\n			\n			\n				\n			\n		\n\na \n\n			\n				\n			\n			\n				\n			\n		\n\na \n\n			\n				\n			\n			\n				\n			\n		\n\n\n\n\n\n\n\n
URL:https://www.unioneistriani.it/event/giorno-del-ricordo-stamane-le-cerimonie-a-muggia-lunica-citta-istriana-rimasta-allitalia/
LOCATION:Muggia\, TS\, Italia
CATEGORIES:Attività e Proposte
ATTACH;FMTTYPE=image/jpeg:https://www.unioneistriani.it/wp-content/uploads/2022/02/Muggia.2022.02.12.jpg
END:VEVENT
BEGIN:VEVENT
DTSTART;TZID=Europe/Rome:20220212T100000
DTEND;TZID=Europe/Rome:20220212T110000
DTSTAMP:20260421T164256
CREATED:20220213T065943Z
LAST-MODIFIED:20220213T073227Z
UID:3113-1644660000-1644663600@www.unioneistriani.it
SUMMARY:INAUGURATA NELLA SALA CONSILIARE LA MOSTRA SU ESODO E CAMPI PROFUGHI A BAREGGIO
DESCRIPTION:Sabato 12 febbraio\, nella Sala consiliare\, ha avuto luogo l’inaugurazione della mostra didattica su Esodo istriano e Campi profughi intitolata “L’esilio dei giuliano-dalmati e la loro accoglienza in Italia”\, organizzata dall’Unione degli Istriani in collaborazione con il Comune partner di Bareggio (Milano)\, in occasione del Giorno del Ricordo. \n\nPresenti al taglio del nastro il Sindaco\, Linda Colombo\, l’Assessore regionale della Lombardia alla Autonomia e Cultura\, Stefano Bruno Galli\, ed i deputati Fabio Massimo Boniardi e Marco Osnato.\n\n\nIl nostro Coordinatore regionale per la Lombardia\, Lorenzo Galli\, ha illustrato la mostra ed il suo significativo messaggio al pubblico intervenuto.\n\n\nDi seguito alcune immagini dell’evento.\n\na \n\n			\n				\n			\n			\n				\n			\n		\n\na \n\n			\n				\n			\n			\n				\n			\n		\n\na \n\n			\n				\n			\n		\n\n
URL:https://www.unioneistriani.it/event/inaugurata-nella-sala-consiliare-la-mostra-su-esodo-e-campi-profughi-a-bareggio/
LOCATION:Bareggio\, Bareggio\, MI\, Italia
CATEGORIES:Attività e Proposte
ATTACH;FMTTYPE=image/jpeg:https://www.unioneistriani.it/wp-content/uploads/2022/02/Bareggio.2022.02.12.jpg
END:VEVENT
BEGIN:VEVENT
DTSTART;TZID=Europe/Rome:20220212T100000
DTEND;TZID=Europe/Rome:20220212T120000
DTSTAMP:20260421T164256
CREATED:20220214T081401Z
LAST-MODIFIED:20220214T081401Z
UID:3149-1644660000-1644667200@www.unioneistriani.it
SUMMARY:A GAIARINE UNA IMPONENTE CERIMONIA PER L'INAUGURAZIONE DI PARCO E MONUMENTO AI MARTIRI DELLE FOIBE\, PRESENTE IL SOTTOSEGRETARIO DI STATO VANNIA GAVA
DESCRIPTION:Su invito del Sindaco Diego Zanchetta il nostro Coordinatore regionale per il Veneto\, Alessandro Toscani\, ha preso parte sabato 12 febbraio a Gaiarine (Treviso) alla imponente cerimonia di inaugurazione del parco di via 8 Marzo ai Martiri delle Foibe\, con lo svelamento del monumento dedicato agli Italiani della Venezia Giulia\, dell’Istria e della Dalmazia trucidati dai partigiani jugoslavi di Tito. \nLa cerimonia si è aperta con un’introduzione storica sui fatti avvenuti a ridosso della Seconda Guerra Mondiale tenuta dal nostro Toscani\, cui sono seguiti numerosi interventi da parte dei vari esponenti istituzionali. \nPresenti il Sottosegretario di Stato Vannia Gava\, il Presidente della Provincia Stefano Marcon\, l’europarlamentare Gianantonio Da Re\, i parlamentari Candura\, Coin e De Carlo\, i Consiglieri regionali veneti Bet\, Razzolini e Brescacin\, che ha portato i saluti del Governatore Zaia\, e il Consigliere regionale del Friuli Venezia Giulia Ivo Moras. \nTra i molti Sindaci locali presenti figuravano il Sindaco di Treviso\, Mario Conte\, e il Vicesindaco di Trieste\, la nostra Serena Tonel. \nDopo lo svelamento del monumento da parte del nostro Coordinatore regionale e del Sindaco insieme\, il primo cittadino ha preso la parola. \n“Ho l’orgoglio di dire che\, sin dal suo insediamento\, è sempre stata volontà di questa amministrazione trovare uno spazio pubblico che facesse memoria di quanto accaduto\, perché ciò non si ripeta più\, per nessun motivo e senza alcuna giustificazione. Nelle foibe persero la vita fascisti\, antifascisti\, forze armate\, religiosi\, intellettuali\, ma soprattutto semplici cittadini che volevano tornare ad essere liberi in terra italiana” ha affermato nel suo discorso Zanchetta “e per troppo tempo la tragedia delle foibe è rimasta nel silenzio\, sminuita o persino negata”. \nMolto significativa è stata la partecipazione delle associazioni combattentistiche di Gaiarine e dei comuni limitrofi\, che hanno reso onore ai caduti insieme al Sindaco e al Vice Comandante della Compagnia Carabinieri di Conegliano\, tenente Ivan Lupieri. \na \n\n			\n				\n			\n			\n				\n			\n		\n\na \n\n			\n				\n			\n			\n				\n			\n		\n\na \n\n			\n				\n			\n		\n\na \n\n			\n				\n			\n			\n				\n			\n		\n\n
URL:https://www.unioneistriani.it/event/a-gaiarine-una-imponente-cerimonia-per-linaugurazione-di-parco-e-monumento-ai-martiri-delle-foibe-presente-il-sottosegretario-di-stato-vannia-gava/
LOCATION:Gaiarine\, TV\, Italia
CATEGORIES:Attività e Proposte
ATTACH;FMTTYPE=image/jpeg:https://www.unioneistriani.it/wp-content/uploads/2022/02/Gaiarine.2022.02.12.jpg
END:VEVENT
BEGIN:VEVENT
DTSTART;TZID=Europe/Rome:20220212T150000
DTEND;TZID=Europe/Rome:20220212T160000
DTSTAMP:20260421T164256
CREATED:20220217T153630Z
LAST-MODIFIED:20240807T075554Z
UID:3255-1644678000-1644681600@www.unioneistriani.it
SUMMARY:GIORNO DEL RICORDO\, A SIENA DEPOSIZIONE DI UNA CORONA CON IL SINDACO DE MOSSI
DESCRIPTION:Anche Siena ha commemorato il Giorno del Ricordo con la deposizione di una corona al Parco dedicato a Norma Cossetto\, intitolato lo scorso anno. \nAlla cerimonia\, tenutasi nel pomeriggio del 12 febbraio scorso\, assieme al Sindaco Luigi De Mossi ed all’Assessore all’Urbanistica Francesco Michelotti\, ha preso parte anche il nostro Coordinatore regionale per la Toscana\, Giampaolo Giannelli. \nRingraziamo la città partner per la preziosa collaborazione! \na \n\n			\n				\n			\n		\n\n
URL:https://www.unioneistriani.it/event/giorno-del-ricordo-a-siena-deposizione-di-una-corona-con-il-sindaco-de-mossi/
LOCATION:Siena\, SI\, Italia
CATEGORIES:Attività e Proposte
ATTACH;FMTTYPE=image/jpeg:https://www.unioneistriani.it/wp-content/uploads/2022/02/Siena.2022.02.12.jpg
END:VEVENT
BEGIN:VEVENT
DTSTART;TZID=Europe/Rome:20220212T170000
DTEND;TZID=Europe/Rome:20220212T180000
DTSTAMP:20260421T164256
CREATED:20220215T082328Z
LAST-MODIFIED:20220215T082328Z
UID:3188-1644685200-1644688800@www.unioneistriani.it
SUMMARY:SAN BIAGIO DI CALLALTA\, INAUGURATA LA MOSTRA SU ESODO E CAMPI PROFUGHI
DESCRIPTION:Sabato 12 febbraio 2022 ha aperto i battenti  la mostra didattica intitolata “Dalle Foibe all’Esodo. L’odissea dei 350.000 Esuli Istriani\, Fiumani e Dalmati” allestita dall’Unione degli Istriani presso il polo culturale Skholè a San Biagio di Callalta (Treviso). \nÈ la quarta mostra aperta in questo periodo nella nostra Regione Madre\, assieme a quelle di Schio\, Bussolengo e Cadoneghe. \nAll’inaugurazione della esposizione hanno preso parte\, assieme al Sindaco Alberto Cappelletto ed al nostro superattivo Coordinatore regionale per il Veneto\, Alessandro Toscani\, anche il nostro grande amico\, il Consigliere regionale Alberto Villanova\, e il Consigliere comunale Luca Moretto\, promotore di questa iniziativa. \nArticolata su pannelli didattici e la rappresentazione di un assortimento di masserizie originali dalle collezioni del Museo di Carattere Nazionale CRP Padriciano (Trieste)\, la mostra ha lo scopo di raccontare la difficile vita degli esuli giuliano-dalmati accolti in Patria ed internati in oltre 120 strutture dal Friuli alla Sicilia e dalla Puglia al Piemonte\, molti dei quali vissero in fabbricati malsani ed inadeguati anche per oltre dieci anni. \nLa mostra sarà visitabile dal 12 al 27 febbraio\, sabato e domenica dalle 10 alle 12 e dalle 15.30 alle 18.30. E moltissime saranno le classi che la visiteranno in questo periodo. \nDomenica 20 febbraio\, alle ore 17.00\, invece\, nella sede della mostra a presentare la ristampa anastatica\, appena uscita dalla tipografia\, dei due volumi “La Dalmazia” del grande geografo fiorentino Giotto Dainelli\, fondamentali per la conoscenza della storia e della geografia delle terre dell’Adriatico orientale\, sarà il Presidente dell’Unione degli Istriani Massimiliano Lacota. \nDati precisi\, informazioni minuziose\, mappe e cartine tematiche\, puntuali descrizioni statistiche di carattere storico\, etnografico\, geologico\, commerciale e sociale permettono di avere una visione d’insieme straordinaria delle città e delle numerose isole dalmate plasmate dalla benevola\, secolare presenza della Serenissima\, tale da rendere\, ancora cent’anni dopo la sua pubblicazione\, unica e preziosa quest’opera. \nFoto: alcuni momenti dell’inaugurazione e dell’illustrazione della mostra. \na \n\n			\n				\n			\n		\n\na \n\n			\n				\n			\n		\n\n
URL:https://www.unioneistriani.it/event/san-biagio-di-callalta-inaugurata-la-mostra-su-esodo-e-campi-profughi/
LOCATION:S. Biagio di Callalta\, TV\, Italia
CATEGORIES:Attività e Proposte
ATTACH;FMTTYPE=image/jpeg:https://www.unioneistriani.it/wp-content/uploads/2022/02/S.Biagio.2022.02.12.jpg
END:VEVENT
END:VCALENDAR