BEGIN:VCALENDAR
VERSION:2.0
PRODID:-//Unione degli Istriani - ECPv5.0.0.2//NONSGML v1.0//EN
CALSCALE:GREGORIAN
METHOD:PUBLISH
X-WR-CALNAME:Unione degli Istriani
X-ORIGINAL-URL:https://www.unioneistriani.it
X-WR-CALDESC:Eventi per Unione degli Istriani
BEGIN:VTIMEZONE
TZID:Europe/Rome
BEGIN:DAYLIGHT
TZOFFSETFROM:+0100
TZOFFSETTO:+0200
TZNAME:CEST
DTSTART:20220327T010000
END:DAYLIGHT
BEGIN:STANDARD
TZOFFSETFROM:+0200
TZOFFSETTO:+0100
TZNAME:CET
DTSTART:20221030T010000
END:STANDARD
END:VTIMEZONE
BEGIN:VEVENT
DTSTART;VALUE=DATE:20220208
DTEND;VALUE=DATE:20220212
DTSTAMP:20260421T150430
CREATED:20220215T083032Z
LAST-MODIFIED:20220215T083405Z
UID:3194-1644278400-1644623999@www.unioneistriani.it
SUMMARY:NUMEROSE LE ATTIVITA' PROMOSSE IN PUGLIA DAL NOSTRO COORDINATORE REGIONALE GIANNI NARDIN
DESCRIPTION:Anche in Puglia l’Unione degli Istriani ha svolto numerose iniziative in occasione del Giorno del Ricordo. \nOltre alla mostra su Esodo e Campi Profughi intitolata “Dalle Foibe ai campi profughi: l’odissea dei 350.000 Istriani\, Fiumani e Dalmati”\, allestita nel Liceo polivalente “Don Quirico Punzi” di Cisternino (Brindisi) dallo scorso dicembre\, il 10 febbraio 2022 il nostro Coordinatore regionale Gianni Nardin ha partecipato ad un evento in streaming organizzato con le istituzioni della città di Lecce e la partecipazione del Sindaco Carlo Salvemini\, del Prefetto Maria Rosa Trio e di Dirigenti scolastici e professori dell’Università del Salento. \nVari incontri sono stati poi organizzati con tutti gli studenti del liceo\, nell’ambito dei quali è stata presentata la straziante testimonianza della prozia di Nardin\, la vedova del l’Eroe di Vergarolla\, Geppino Micheletti. \nL’8 febbraio\, invece\, in modalità DAD\, Nardin ha tenuto una conferenza per gli studenti del Liceo Classico “Benedetto Merzolla” di Brindisi\, cui hanno partcipato diversi insegnanti e pure dirigenti del Museo Archeologico “Francesco Ribezzo”. Mattia Nicolau\, giovane studente\, ha letto nei vari incontri  “la nostra storia”\, un racconto immaginario di Carlo e Renzo Micheletti\, i due figli di Geppino\, dilaniati dallo scoppio della Strage di Vergarolla. \nL’11 febbraio Nardin ha incontrato gli studenti delle terze medie della scuola Virgilio di Brindisi\, mentre ieri\, lunedì 14 febbraio\, ha avuto un incontro con l’amministrazione comunale di San Pancrazio Salentino\, e con gli studenti ed insegnanti di tre istituti. \na \n\n			\n				\n			\n		\n\na \n\n			\n				\n			\n		\n\n
URL:https://www.unioneistriani.it/event/numerose-le-attivita-promosse-in-puglia-dal-nostro-coordinatore-regionale-gianni-nardin/
CATEGORIES:Attività e Proposte
ATTACH;FMTTYPE=image/jpeg:https://www.unioneistriani.it/wp-content/uploads/2022/02/Puglia.01.jpg
END:VEVENT
BEGIN:VEVENT
DTSTART;TZID=Europe/Rome:20220211T110000
DTEND;TZID=Europe/Rome:20220211T120000
DTSTAMP:20260421T150430
CREATED:20220218T075122Z
LAST-MODIFIED:20220218T075212Z
UID:3275-1644577200-1644580800@www.unioneistriani.it
SUMMARY:GIORNO DEL RICORDO\,  A ROMA IL PREFETTO PIANTEDOSI HA CONSEGNATO LE MEDAGLIE AI FAMILIARI DEGLI INFOIBATI
DESCRIPTION:Lo scorso 11 febbraio si è svolta a Roma\, nella splendida cornice di Palazzo Valentini\, la cerimonia di consegna delle Medaglie alla memoria di due nostri connazionali che sacrificarono la loro giovane vita in difesa delle terre italiane del Confine orientale d’Italia. \nLa prima al romano Milvio Miletti – appartenente alla I^ Brigata Bersaglieri Volontari\, che si distinse a Gorizia per i combattimenti contro i partigiani titini e che fu ucciso dopo la resa di Tolmino il 5 maggio 1945 -\, medaglia consegnata alla nipote Luisa Dispenza\, e la seconda allo zaratino Lucio Benevenia – aviere ed atleta\, intercettato dopo l’8 settembre 1943 dai titini al largo di Ugliano (Zara) mentre si trovava a bordo di un natante\,catturato ed ucciso per annegamento -\, medaglia commemorativa consegnata al fratello Claudio Benevenia. \nAll’evento è intervenuto anche il nostro Coordinatore regionale per il Lazio\, Simona Pellis\, che ha così commentato: “la cerimonia di quest’anno resterà indimenticabile per l’atmosfera di  empatia e solidarietà che in tutti hanno suscitato le terribili vicende occorse agli insigniti: il giovanissimo bersagliere romano\, Milvio Miletti  – ucciso dopo la resa volontaria- ed il nostro aviere di Zara Lucio Benevenia catturato dai titini\, e da questi ultimi non fatto prigioniero ma annegato in mare. Sono questi i nostri Fratelli\, coloro di cui volentieri onoriamo il generoso sacrificio\, mentre ci amareggia ancora il ricordo di quel Presidente della Repubblica Italiana che ‘fratello’ chiamò invece Tito\, il carnefice\, colui che ordinava ai suoi partigiani di uccidere\, anziché di far prigionieri.” \n“E’ necessario far conoscere le nostre storie personali” ha concluso la nostra Simona “perché ancora non abbiamo la dovuta solidarietà da parte dei nostri connazionali\, che apprezzerebbero\, ne sono certa\, le parole degli esuli che se pur privati della propria terra\, dei propri averi\, della propria cultura\, e spesso anche degli affetti più cari\, esprimono al massimo un sommesso rammarico per esser stati a lungo dimenticati”. \nDi seguito alcune immagini dell’intervento di Simona Pellis in Prefettura e con i familiari insigniti. \na \n\n			\n				\n			\n		\n\na \n\n			\n				\n			\n		\n\na \n\n			\n				\n			\n		\n\na \n\n			\n				\n			\n		\n\n
URL:https://www.unioneistriani.it/event/giorno-del-ricordo-a-roma-il-prefetto-piantedosi-ha-consegnato-le-medaglie-ai-familiari-degli-infoibati/
LOCATION:Roma\, RM\, Italia
CATEGORIES:Attività e Proposte
ATTACH;FMTTYPE=image/jpeg:https://www.unioneistriani.it/wp-content/uploads/2022/02/Roma.2022.02.11.jpg
END:VEVENT
BEGIN:VEVENT
DTSTART;TZID=Europe/Rome:20220211T184500
DTEND;TZID=Europe/Rome:20220211T203000
DTSTAMP:20260421T150430
CREATED:20220212T083903Z
LAST-MODIFIED:20240807T075632Z
UID:3097-1644605100-1644611400@www.unioneistriani.it
SUMMARY:GIORNO DEL RICORDO\, A MARTELLAGO LA CONFERENZA DEL PRESIDENTE LACOTA CON ROBERTO MENIA
DESCRIPTION:\n\n\n\nGIORNO DEL RICORDO\, IERI A MARTELLAGO LA CONFERENZA DEL PRESIDENTE LACOTA CON ROBERTO MENIA \nVenerdì 11 febbraio ha avuto luogo\, nel tardo pomeriggio\, a Martellago (Venezia) l’evento dedicato al Giorno del Ricordo promosso dall’Amministrazione comunale in collaborazione con l’Unione degli Istriani: una conferenza su Esodo e Foibe\, tenuta dal nostro Presidente Massimiliano Lacota\, con la partecipazione dell’on. Roberto Menia\, Padre della legge istitutiva della ricorrenza nazionale che ha squarciato il lungo e vergognoso oblio di Stato sulle nostre vicende.\n\nAlla presenza di un numeroso pubblico\, composto anche dalla rappresentanza dell’ANPI locale\, nella splendida cornice dell’ex chiesetta Ca’ della Nave\, trasformata in auditorium\, l’evento è stato introdotto e moderato dall’Assessore alla Cultura\, Laura Tozzato.\n\n\nDopo i saluti del Sindaco Andrea Saccarola e della Presidente della Commissione cultura del Consiglio regionale Veneto\, Francesca Scatto\, il Presidente Lacota ha inquadrato il contesto più ampio in cui nacquero le contrapposizioni etniche nell’area alto adriatica e balcanica\, sviscerando gli eventi storici più pertinenti a partire dall’Ottocento e fino all’esodo forzato degli Italiani dopo la seconda guerra mondiale\, stigmatizzando le teorie di certi storici che chiedono di ricordare tutto\, ma dimenticano per primi fatti e avvenimenti fondamentali per capire la complessità della storia di questa regione.\n\n\nÈ poi intervenuto Roberto Menia\, che ha spiegato la genesi della Legge istitutiva del Giorno del Ricordo\, da lui promossa e caparbiemente voluta\, portando alcune testimonianze e storie di violenza partigiana\, omicidi e massacri avvenuti perlopiù a guerra finita.\n\n\nUn grazie particolare all’Assessore Tozzato e al nostro Coordinatore regionale per il Veneto\, Alessandro Toscani\, per il loro impegno nella organizzazione di questo bell’evento.\n\n\nDi seguito alcune immagini.\na\n\n\n			\n				\n			\n		\n\na \n\n			\n				\n			\n		\n\na \n\n			\n				\n			\n		\n\n\n\n\n\n\n\n
URL:https://www.unioneistriani.it/event/giorno-del-ricordo-a-martellago-la-conferenza-del-presidente-lacota-con-roberto-menia/
LOCATION:Martellago\, VE\, Italia
CATEGORIES:Attività e Proposte
ATTACH;FMTTYPE=image/jpeg:https://www.unioneistriani.it/wp-content/uploads/2022/02/Martellago.2022.02.11-1.jpg
END:VEVENT
END:VCALENDAR