BEGIN:VCALENDAR
VERSION:2.0
PRODID:-//Unione degli Istriani - ECPv5.0.0.2//NONSGML v1.0//EN
CALSCALE:GREGORIAN
METHOD:PUBLISH
X-WR-CALNAME:Unione degli Istriani
X-ORIGINAL-URL:https://www.unioneistriani.it
X-WR-CALDESC:Eventi per Unione degli Istriani
BEGIN:VTIMEZONE
TZID:Europe/Rome
BEGIN:DAYLIGHT
TZOFFSETFROM:+0100
TZOFFSETTO:+0200
TZNAME:CEST
DTSTART:20220327T010000
END:DAYLIGHT
BEGIN:STANDARD
TZOFFSETFROM:+0200
TZOFFSETTO:+0100
TZNAME:CET
DTSTART:20221030T010000
END:STANDARD
END:VTIMEZONE
BEGIN:VEVENT
DTSTART;VALUE=DATE:20220208
DTEND;VALUE=DATE:20220212
DTSTAMP:20260421T132614
CREATED:20220215T083032Z
LAST-MODIFIED:20220215T083405Z
UID:3194-1644278400-1644623999@www.unioneistriani.it
SUMMARY:NUMEROSE LE ATTIVITA' PROMOSSE IN PUGLIA DAL NOSTRO COORDINATORE REGIONALE GIANNI NARDIN
DESCRIPTION:Anche in Puglia l’Unione degli Istriani ha svolto numerose iniziative in occasione del Giorno del Ricordo. \nOltre alla mostra su Esodo e Campi Profughi intitolata “Dalle Foibe ai campi profughi: l’odissea dei 350.000 Istriani\, Fiumani e Dalmati”\, allestita nel Liceo polivalente “Don Quirico Punzi” di Cisternino (Brindisi) dallo scorso dicembre\, il 10 febbraio 2022 il nostro Coordinatore regionale Gianni Nardin ha partecipato ad un evento in streaming organizzato con le istituzioni della città di Lecce e la partecipazione del Sindaco Carlo Salvemini\, del Prefetto Maria Rosa Trio e di Dirigenti scolastici e professori dell’Università del Salento. \nVari incontri sono stati poi organizzati con tutti gli studenti del liceo\, nell’ambito dei quali è stata presentata la straziante testimonianza della prozia di Nardin\, la vedova del l’Eroe di Vergarolla\, Geppino Micheletti. \nL’8 febbraio\, invece\, in modalità DAD\, Nardin ha tenuto una conferenza per gli studenti del Liceo Classico “Benedetto Merzolla” di Brindisi\, cui hanno partcipato diversi insegnanti e pure dirigenti del Museo Archeologico “Francesco Ribezzo”. Mattia Nicolau\, giovane studente\, ha letto nei vari incontri  “la nostra storia”\, un racconto immaginario di Carlo e Renzo Micheletti\, i due figli di Geppino\, dilaniati dallo scoppio della Strage di Vergarolla. \nL’11 febbraio Nardin ha incontrato gli studenti delle terze medie della scuola Virgilio di Brindisi\, mentre ieri\, lunedì 14 febbraio\, ha avuto un incontro con l’amministrazione comunale di San Pancrazio Salentino\, e con gli studenti ed insegnanti di tre istituti. \na \n\n			\n				\n			\n		\n\na \n\n			\n				\n			\n		\n\n
URL:https://www.unioneistriani.it/event/numerose-le-attivita-promosse-in-puglia-dal-nostro-coordinatore-regionale-gianni-nardin/
CATEGORIES:Attività e Proposte
ATTACH;FMTTYPE=image/jpeg:https://www.unioneistriani.it/wp-content/uploads/2022/02/Puglia.01.jpg
END:VEVENT
BEGIN:VEVENT
DTSTART;TZID=Europe/Rome:20220210T100000
DTEND;TZID=Europe/Rome:20220210T110000
DTSTAMP:20260421T132614
CREATED:20220212T083258Z
LAST-MODIFIED:20220212T083258Z
UID:3093-1644487200-1644490800@www.unioneistriani.it
SUMMARY:GIORNO DEL RICORDO\, LA CITTÀ DI JESI HA APPROVATO IL PROTOCOLLO DI INTESA CON L'UNIONE DEGLI ISTRIANI
DESCRIPTION:\n\n\nLa città di Jesi (Ancona) ha celebrato il Giorno del Ricordo con una bellissima novità: l’approvazione di un Protocollo di Intesa con l’Unione degli Istriani attraverso il quale si organizzeranno iniziative pubbliche destinate alla conoscenza e all’approfondimento storico delle vicende del confine orientale\, in particolare della tragedia delle Foibe e dell’Esodo degli Italiani dall’Istria\, Fiume e Dalmazia\, con un pieno coinvolgimento delle scuole cittadine. \n\nLo scorso 10 febbraio\, il nostro Coordinatore regionale per le Marche\, Emanuele Piloni\, ha presenziato nell’atrio del Municipio alla deposizione di una corona d’alloro da parte del sindaco Massimo Bacci\, ai piedi della lapide dedicata al Giorno del Ricordo (foto).\n\n\nAll’iniziativa sono intervenuti anche il Vicesindaco Luca Butini\, il Presidente e la Vicepresidente del Consiglio comunale Daniele Massaccesi ed Emanuela Marguccio\, ed i capogruppo di Jesiamo Nicola Filonzi e Jesi in Comune Samuele Animali\, insieme ad una rappresentanza delle Associazioni combattentistiche e d’arma.\n\n\nNelle parole di Butini il significato di questa lapide e delle altre poste nell’atrio del Municipio che rappresentano pagine importanti della storia d’Italia e della città da conservare ed il cui ricordo da tenere vivo per le future generazioni.\n\n\nGrazie all’Amministrazione comunale e al nostro Emanuele Piloni per il bel risultato\, con la conferma da parte nostra dell’impegno serio e continuativo dell’Unione degli Istriani nello svolgimento di iniziative di qualità dedicate alla diffusione dei drammi del Confine orientale d’Italia sul territorio.\n\n\n\n\n\n
URL:https://www.unioneistriani.it/event/giorno-del-ricordo-la-citta-di-jesi-ha-approvato-il-protocollo-di-intesa-con-lunione-degli-istriani/
LOCATION:Jesi\, AN\, Italia
CATEGORIES:Attività e Proposte
ATTACH;FMTTYPE=image/jpeg:https://www.unioneistriani.it/wp-content/uploads/2022/02/Jesi.2022.02.10.jpg
END:VEVENT
BEGIN:VEVENT
DTSTART;TZID=Europe/Rome:20220210T100000
DTEND;TZID=Europe/Rome:20220210T120000
DTSTAMP:20260421T132614
CREATED:20220213T071059Z
LAST-MODIFIED:20220213T073323Z
UID:3120-1644487200-1644494400@www.unioneistriani.it
SUMMARY:GIORNO DEL RICORDO\, A SCHIO LA CONSEGNA DI DUE RICONOSCIMENTI A MASSIMO MARZINI\, IN RICORDO DEL NONNO E DEL PROZIO INFOIBATI
DESCRIPTION:\nIn occasione del Giorno del Ricordo il Comune di Schio (Vicenza)\, oltre ad ospitare la mostra “Gli esuli istriani e la loro accoglienza in Italia” allestita dall’Unione degli Istriani a Palazzo Toaldi Capra\, ha promosso anche ulteriori due importanti iniziative: la intitolazione della Sala gruppi consiliari di via Pasini a Norma Cossetto\, la giovane studentessa istriana arrestata dai titini\, lungamente seviziata poi infoibata\, e la consegna di due riconoscimenti previsti dalla Legge istitutiva della ricorrenza nazionale voluta dal nostro Roberto Menia al farmacista Massimo Marzini\, figlio di Adriana Defilippi Marzini\, da lunghi anni Dirigente della nostra Associazione\, in ricordo del nonno Attilio Marzini e del prozio Ettore Marzini\, di Pedena d’Istria\, che nel settembre 1943 furono arrestati dai partigiani slavi e rinchiusi nel castello Montecuccoli di Pisino e poi infoibati nella cava di bauxite di Villa Bassotti.\n\n\n“In ricordo di Norma Cossetto\, medaglia d’oro al Merito Civile. Vittima delle foibe nell’ottobre 1943. La Città di Schio\, 10 febbraio 2022” si legge nella targa che è stata svelata dal Sindaco assieme al nostro Alessandro Toscani\, Coordinatore regionale per il Veneto dell’Unione degli Istriani\, e ad Anna Maria Marussi\, rappresentante del comitato di Vicenza della ANVGD.\n\n\nAlla cerimonia erano presenti anche il Vicesindaco Cristina Marigo\, alcuni Assessori\, il Presidente del Consiglio Comunale\, Sergio Secondin\, e le associazioni combattentistiche e d’arma.\n\n\nDi seguito una breve foto cronaca dell’evento.\n\na \n\n			\n				\n			\n		\n\na \n\n			\n				\n			\n		\n\na \n\n			\n				\n			\n		\n\na \n\n			\n				\n			\n		\n\na \n\n			\n				\n			\n		\n\n
URL:https://www.unioneistriani.it/event/giorno-del-ricordo-a-schio-la-consegna-di-due-riconoscimenti-a-massimo-marzini-in-ricordo-del-nonno-e-del-prozio-infoibati/
LOCATION:Schio\, Via Pasubio\, 52\, Schio\, VI\, Italia
CATEGORIES:Attività e Proposte
ATTACH;FMTTYPE=image/jpeg:https://www.unioneistriani.it/wp-content/uploads/2022/02/Schio.2022.02.10.jpg
END:VEVENT
BEGIN:VEVENT
DTSTART;TZID=Europe/Rome:20220210T100000
DTEND;TZID=Europe/Rome:20220210T120000
DTSTAMP:20260421T132614
CREATED:20220213T072205Z
LAST-MODIFIED:20220213T072822Z
UID:3127-1644487200-1644494400@www.unioneistriani.it
SUMMARY:GIORNO DEL RICORDO\, CERIMONIE A RIVOLI E RIVALTA CON IL NOSTRO COORDINATORE REGIONALE PER IL PIEMONTE
DESCRIPTION:A Rivoli e Rivalta (Torino)\, il nostro giovane Coordinatore regionale per il Piemonte\, Alessandro Schirru\, ha partecipato alle cerimonie organizzate dalle rispettive amministrazioni comunali per il Giorno del Ricordo. \n\nA Rivoli\, su invito del Col. Giuseppe De Luca\, Comandante del Reggimento logistico della Brigata alpina Taurinense di stanza alla Caserma Ceccaroni\, il Coordinatore Schirru ha svolto un intervento ufficiale in ricordo di Foibe ed Esodo\, alla presenza delle autorità civili e del Comandante della Brigata alpina stessa\, il Generale Nicola Piasente.\n\n\nSuccessivamente ha avuto luogo la cerimonia con il Sindaco Andrea Tragaioli e la Vicesindaco Laura Adduce\, durante la quale è stata deposta una corona di alloro nel Giardino Vittime delle Foibe\, mentre alla sera\, all’Auditorium Toscanini\, è stato lo spettacolo musicale “Come radici strappate. L’Esodo istriano e il dramma delle Foibe”\, organizzato con la collaborazione dell’Unione degli Istriani\, a chiudere la giornata istituzionale.\n\n\nA Rivalta (foto sopra)\, invece\, la cerimonia è stata fortemente voluta dai Consiglieri di minoranza Federico Bo\, Mauro Bange e Michele Colaci. Assieme al Sindaco Sergio Muro\, al Presidente del Consiglio comunale Giuseppe Tommasino ed al Consigliere regionale Andrea Cerutti\, il Coordinatore Schirru ha reso omaggio alle Vittime delle Foibe presso il monumento nel parco omonimo.\n\na \n\n			\n				\n			\n			\n				\n			\n		\n\n
URL:https://www.unioneistriani.it/event/giorno-del-ricordo-cerimonie-a-rivoli-e-rivalta-con-il-nostro-coordinatore-regionale-per-il-piemonte/
CATEGORIES:Attività e Proposte
ATTACH;FMTTYPE=image/jpeg:https://www.unioneistriani.it/wp-content/uploads/2022/02/Rivalta.2022.02.10.jpg
END:VEVENT
BEGIN:VEVENT
DTSTART;TZID=Europe/Rome:20220210T100000
DTEND;TZID=Europe/Rome:20220210T110000
DTSTAMP:20260421T132614
CREATED:20220217T153238Z
LAST-MODIFIED:20220217T153238Z
UID:3249-1644487200-1644490800@www.unioneistriani.it
SUMMARY:BACOLI\, INAUGURATA UNA PIAZZA ALLA MEMORIA DEI MARTIRI DELLE FOIBE
DESCRIPTION:Il 10 febbraio a Bacoli (Napoli) il nostro Coordinatore regionale per la Campania Giuseppe Sartore ha partecipato alla cerimonia di inaugurazione di una piazza dedicata alla memoria dei Martiri delle Foibe\, nell’incantevole scenario della Marina Piccola di Capo Miseno. \nOltre al Sindaco\, Josi Gerardo Della Ragione\, erano presenti Mauro Cucco (Presidente del Consiglio comunale)\, Mariano Scotto di Vetta (Assessore alla Cultura)\, Isaia Guardascione (Assessore al Demanio)\, Aniello Savoia (Consigliere comunale) ed un nutrito gruppo di cittadini con la banda musicale e le autorità militari. \nUn plauso a questa comunità che compattamente ha voluto dedicare uno spazio alla nostra memoria e che ha deciso di farlo in uno degli scorci più belli della Campania. \nFoto: la cerimonia di inaugurazione con l’intervento del nostro Coordinatore regionale Giuseppe Sartore. \na \n\n			\n				\n			\n		\n\na \n\n			\n				\n			\n		\n\n
URL:https://www.unioneistriani.it/event/bacoli-inaugurata-una-piazza-alla-memoria-dei-martiri-delle-foibe/
LOCATION:Bacoli\, NA\, Italia
CATEGORIES:Attività e Proposte
ATTACH;FMTTYPE=image/jpeg:https://www.unioneistriani.it/wp-content/uploads/2022/02/Bacoli.2022.02.10-1.jpg
END:VEVENT
BEGIN:VEVENT
DTSTART;TZID=Europe/Rome:20220210T100000
DTEND;TZID=Europe/Rome:20220210T110000
DTSTAMP:20260421T132614
CREATED:20220222T081752Z
LAST-MODIFIED:20220222T081752Z
UID:3336-1644487200-1644490800@www.unioneistriani.it
SUMMARY:GIORNO DEL RICORDO\, ESEMPLARE CERIMONIA A MARCON CON I BAMBINI CHE DEPONGONO LA CORONA DEL COMUNE IN OMAGGIO AI MARTIRI DELLE FOIBE
DESCRIPTION:Lo scorso 10 febbraio\, la città partner di Marcon (Venezia) – con la quale l’Unione degli Istriani ha sottoscritto un fruttuoso Protocollo di Intesa – ha organizzato una bellissima cerimonia per onorare i Martiri delle Foibe\, coinvolgendo alcune scuole del territorio. \nSono stati infatti i bambini – durante la commemorazione coordinata dallo splendido Vicesindaco Luigi Bona\, alla quale ha partecipato anche il nostro Coordinatore regionale per il Veneto\, Alessandro Toscani – a deporre la corona del Comune al bellissimo monumento che ricorda le nostre Vittime mentre i compagni li guardavano con partecipata ammirazione. \nLa prossima iniziativa dedicata alle scuole sarà una conferenza su Foibe ed Esodo in programma per la mattinata di venerdì 25 febbraio. \nUn infinito plauso al Vicesindaco Bona ed al Sindaco Matteo Romanello per la loro straordinaria sensibilità: sono questi gli Amministratori che vogliamo! \nDi seguito alcune foto della cerimonia. \na \n\n			\n				\n			\n			\n				\n			\n		\n\na \n\n			\n				\n			\n			\n				\n			\n		\n\n
URL:https://www.unioneistriani.it/event/giorno-del-ricordo-esemplare-cerimonia-a-marcon-con-i-bambini-che-depongono-la-corona-del-comune-in-omaggio-ai-martiri-delle-foibe/
LOCATION:Marcon\, VE\, Italia
CATEGORIES:Attività e Proposte
ATTACH;FMTTYPE=image/jpeg:https://www.unioneistriani.it/wp-content/uploads/2022/02/Marcon.2022.02.10.jpg
END:VEVENT
BEGIN:VEVENT
DTSTART;TZID=Europe/Rome:20220210T110000
DTEND;TZID=Europe/Rome:20220210T120000
DTSTAMP:20260421T132614
CREATED:20220216T125031Z
LAST-MODIFIED:20220216T125031Z
UID:3222-1644490800-1644494400@www.unioneistriani.it
SUMMARY:CASTELLAMMARE DI STABIA HA DEDICATO UNA PANCHINA TRICOLORE A NORMA COSSETTO
DESCRIPTION:Il 10 febbraio si è svolta a Castellammare di Stabia (Napoli)\, un’articolata cerimonia ha dato seguito alla volontà del Consiglio Comunale che all’unanimità ha deciso di dedicare una panchina alla memoria di Norma Cossetto. \nCastellammare di Stabia è la città natale del nostro Coordinatore regionale per la Campania\, Giuseppe Sartore\, luogo che ha accolto la sua famiglia esule da Pola e nel quale il nonno Giuseppe Tommasi Mavar da subito si è prodigato per assistere gli Esuli ovunque nella costiera sorrentina. Era presente alla cerimonia anche la madre del nostro Giuseppe\, Erminia Tommasi Mavar\, che ci ha fornito gli scatti. \nAlla presenza del Sindaco Gaetano Cimmino\, dell’Assessore alla Scuola Maria Romano\, del Consigliere Comunale Ernesto Sica e delle autorità civili e militari\, oltre che ad un buon numero di cittadini e di scuole\, si è reso prima onore al Capitano della Guardia di Finanza Acanfora\, cittadino stabiese infoibato\, poi si è proceduto alla cerimonia di inaugurazione della panchina\, durante la quale il Coordinatore ha portato alla comunità stabiese i saluti dell’Unione degli Istriani e ringraziato per la vicinanza ed il calore con la quale i cittadini di Castellammare hanno deciso di ricordare la nostra storia. \na \n\n			\n				\n			\n		\n\na \n\n			\n				\n			\n		\n\na \n\n			\n				\n			\n		\n\na \n\n			\n				\n			\n		\n\na \n\n			\n				\n			\n		\n\n
URL:https://www.unioneistriani.it/event/castellammare-di-stabia-ha-dedicato-una-panchina-tricolore-a-norma-cossetto/
LOCATION:Castellammare di Stabia\, NA\, Italia
CATEGORIES:Attività e Proposte
ATTACH;FMTTYPE=image/jpeg:https://www.unioneistriani.it/wp-content/uploads/2022/02/Castellammare.2022.02.10.jpg
END:VEVENT
BEGIN:VEVENT
DTSTART;TZID=Europe/Rome:20220210T110000
DTEND;TZID=Europe/Rome:20220210T120000
DTSTAMP:20260421T132614
CREATED:20220224T104711Z
LAST-MODIFIED:20220224T104711Z
UID:3348-1644490800-1644494400@www.unioneistriani.it
SUMMARY:GIORNO DEL RICORDO\, SOLENNE COMMEMORAZIONE NELL'AULA DEL CONSIGLIO COMUNALE A PIOMBINO TRA LE PROTESTE DELL'ANPI 
DESCRIPTION:In occasione del Giorno del Ricordo\, nella città partner di Piombino\, il Sindaco Francesco Ferrari ha  promosso la commemorazione delle Vittime delle Foibe con una cerimonia svoltasi nell’aula del Consiglio comunale. \nVi ha preso parte anche il nostro Coordinatore regionale per la Toscana\, Giampaolo Giannelli\, il quale è intervenuto assieme all’Esule Pietro Adilardi\, che ha portato la sua testimonianza. \nPer l’ANPI e la CGIL si è trattato invece di “una iniziativa torbida e orientata a un uso ideologico di una pagina drammatica della storia d’Italia”. \nPeccato però – ribadiamo noi – che codesti soggetti dimentichino con vergognosa disinvoltura che tale pagina drammatica della storia d’Italia l’hanno creata i partigiani comunisti\, slavi ed italiani\, di cui proprio l’ANPI e la CGIL sono gli eredi (im)morali! \nRingraziamo\, dunque\, il Sindaco Ferrari per la cerimonia ed il nostro Coordinatore regionale per il suo costante impegno. \nDi seguito alcune foto del bellissimo evento. \na \n\n			\n				\n			\n		\n\na \n\n			\n				\n			\n		\n\na \n\n			\n				\n			\n		\n\n
URL:https://www.unioneistriani.it/event/giorno-del-ricordo-solenne-commemorazione-nellaula-del-consiglio-comunale-a-piombino-tra-le-proteste-dellanpi/
LOCATION:Piombino\, LI\, Italia
CATEGORIES:Attività e Proposte
ATTACH;FMTTYPE=image/jpeg:https://www.unioneistriani.it/wp-content/uploads/2022/02/Piombino.2022.02.10.jpg
END:VEVENT
BEGIN:VEVENT
DTSTART;TZID=Europe/Rome:20220210T120000
DTEND;TZID=Europe/Rome:20220210T130000
DTSTAMP:20260421T132614
CREATED:20220216T123635Z
LAST-MODIFIED:20220216T123635Z
UID:3214-1644494400-1644498000@www.unioneistriani.it
SUMMARY:GIORNO DEL RICORDO\, GREVE IN CHIANTI DEDICA UN GIARDINO AI MARTIRI DELLE FOIBE
DESCRIPTION:La regione in cui l’Unione degli Istriani ha realizzato quest’anno più iniziative in occasione del Giorno del Ricordo è la Toscana\, grazie allo straordinario impegno del nostro Coordinatore regionale Giampaolo Giannelli. \nA Greve in Chianti (Firenze)\, il nostro Giannelli assieme al Sindaco Paolo Sottani\, al Vicesindaco e Assessore alla Cultura Lorenzo Lotti\, al Consigliere della Città metropolitana di Firenze Claudio Gemelli e a don Fausto\, hanno inaugurato un nuovo giardino con un cippo dedicato ai Martiri delle Foibe ed una panchina dedicata a Norma Cossetto. \nDi seguito alcune istantanee della cerimonia. \na \n\n			\n				\n			\n		\n\na \n\n			\n				\n			\n			\n				\n			\n		\n\na \n\n			\n				\n			\n		\n\n
URL:https://www.unioneistriani.it/event/giorno-del-ricordo-greve-in-chianti-dedica-un-giardino-ai-martiri-delle-foibe/
LOCATION:Greve in Chianti\, FI\, Italia
CATEGORIES:Attività e Proposte
ATTACH;FMTTYPE=image/jpeg:https://www.unioneistriani.it/wp-content/uploads/2022/02/Greve.jpg
END:VEVENT
END:VCALENDAR