BEGIN:VCALENDAR
VERSION:2.0
PRODID:-//Unione degli Istriani - ECPv5.0.0.2//NONSGML v1.0//EN
CALSCALE:GREGORIAN
METHOD:PUBLISH
X-WR-CALNAME:Unione degli Istriani
X-ORIGINAL-URL:https://www.unioneistriani.it
X-WR-CALDESC:Eventi per Unione degli Istriani
BEGIN:VTIMEZONE
TZID:Europe/Rome
BEGIN:DAYLIGHT
TZOFFSETFROM:+0100
TZOFFSETTO:+0200
TZNAME:CEST
DTSTART:20220327T010000
END:DAYLIGHT
BEGIN:STANDARD
TZOFFSETFROM:+0200
TZOFFSETTO:+0100
TZNAME:CET
DTSTART:20221030T010000
END:STANDARD
END:VTIMEZONE
BEGIN:VEVENT
DTSTART;VALUE=DATE:20220208
DTEND;VALUE=DATE:20220212
DTSTAMP:20260421T115845
CREATED:20220215T083032Z
LAST-MODIFIED:20220215T083405Z
UID:3194-1644278400-1644623999@www.unioneistriani.it
SUMMARY:NUMEROSE LE ATTIVITA' PROMOSSE IN PUGLIA DAL NOSTRO COORDINATORE REGIONALE GIANNI NARDIN
DESCRIPTION:Anche in Puglia l’Unione degli Istriani ha svolto numerose iniziative in occasione del Giorno del Ricordo. \nOltre alla mostra su Esodo e Campi Profughi intitolata “Dalle Foibe ai campi profughi: l’odissea dei 350.000 Istriani\, Fiumani e Dalmati”\, allestita nel Liceo polivalente “Don Quirico Punzi” di Cisternino (Brindisi) dallo scorso dicembre\, il 10 febbraio 2022 il nostro Coordinatore regionale Gianni Nardin ha partecipato ad un evento in streaming organizzato con le istituzioni della città di Lecce e la partecipazione del Sindaco Carlo Salvemini\, del Prefetto Maria Rosa Trio e di Dirigenti scolastici e professori dell’Università del Salento. \nVari incontri sono stati poi organizzati con tutti gli studenti del liceo\, nell’ambito dei quali è stata presentata la straziante testimonianza della prozia di Nardin\, la vedova del l’Eroe di Vergarolla\, Geppino Micheletti. \nL’8 febbraio\, invece\, in modalità DAD\, Nardin ha tenuto una conferenza per gli studenti del Liceo Classico “Benedetto Merzolla” di Brindisi\, cui hanno partcipato diversi insegnanti e pure dirigenti del Museo Archeologico “Francesco Ribezzo”. Mattia Nicolau\, giovane studente\, ha letto nei vari incontri  “la nostra storia”\, un racconto immaginario di Carlo e Renzo Micheletti\, i due figli di Geppino\, dilaniati dallo scoppio della Strage di Vergarolla. \nL’11 febbraio Nardin ha incontrato gli studenti delle terze medie della scuola Virgilio di Brindisi\, mentre ieri\, lunedì 14 febbraio\, ha avuto un incontro con l’amministrazione comunale di San Pancrazio Salentino\, e con gli studenti ed insegnanti di tre istituti. \na \n\n			\n				\n			\n		\n\na \n\n			\n				\n			\n		\n\n
URL:https://www.unioneistriani.it/event/numerose-le-attivita-promosse-in-puglia-dal-nostro-coordinatore-regionale-gianni-nardin/
CATEGORIES:Attività e Proposte
ATTACH;FMTTYPE=image/jpeg:https://www.unioneistriani.it/wp-content/uploads/2022/02/Puglia.01.jpg
END:VEVENT
BEGIN:VEVENT
DTSTART;TZID=Europe/Rome:20220209T110000
DTEND;TZID=Europe/Rome:20220209T123000
DTSTAMP:20260421T115845
CREATED:20220215T075206Z
LAST-MODIFIED:20220215T075206Z
UID:3180-1644404400-1644409800@www.unioneistriani.it
SUMMARY:PAGANI RICORDA I MARTIRI DELLE FOIBE ED ONORA LA TOMBA DI UN ESULE ZARATINO
DESCRIPTION:Si è tenuta a Pagani (Salerno)\, presso il cimitero comunale\, lo scorso 9 febbraio la cerimonia in ricordo dei Martiri delle Foibe e degli Esuli istriani\, fiumani e dalmati. \nIl Sindaco Raffaele Maria De Prisco\, con la sua Giunta e parte del Consiglio comunale\, ha ospitato una delegazione del Liceo scientifico “Mangino” e dell’Istituto Ipsseoa “Pittoni”\, le forze dell’ordine\, lo storico Marcello Sforza e Padre Giobbe. \nPer l’Unione degli Istriani ha presenziato il nostro dinamico Coordinatore Regionale per la Campania\, Giuseppe Sartore\, che ha tenuto anche un breve discorso per ricordare e far conoscere alla scuole presenti la nostra storia. \na \n\n			\n				\n			\n			\n				\n			\n		\n\na \n\n			\n				\n			\n			\n				\n			\n		\n\n
URL:https://www.unioneistriani.it/event/pagani-ricorda-i-martiri-delle-foibe-ed-onora-la-tomba-di-un-esule-zaratino/
LOCATION:Pagani\, SA\, Italia
CATEGORIES:Attività e Proposte
ATTACH;FMTTYPE=image/jpeg:https://www.unioneistriani.it/wp-content/uploads/2022/02/Pagani.2022.02.09-1.jpg
END:VEVENT
BEGIN:VEVENT
DTSTART;TZID=Europe/Rome:20220209T170000
DTEND;TZID=Europe/Rome:20220209T190000
DTSTAMP:20260421T115845
CREATED:20220212T082332Z
LAST-MODIFIED:20220212T082332Z
UID:3078-1644426000-1644433200@www.unioneistriani.it
SUMMARY:PRESENTAZIONE DEL VOLUME DI ROBERTO MENIA E DEL CONCORSO NAZIONALE "RACCONTARE PER RICORDARE"\, LA FOTOCRONACA
DESCRIPTION:\n\n\nProponiamo alcune istantanee scattate dal nostro Paolo Fabricci\, relative all’evento dello scorso 9 febbraio\, nella Sala Maggiore della sede di Palazzo Tonello\, relativo alla presentazione della nuova edizione ampliata del volume di Roberto Menia “10 Febbraio. Dalle Foibe all’Esodo” e del 1° Concorso Nazionale di Letteratura dell’Esodo giuliano dalmata “Raccontare per ricordare”\, promosso dall’Unione degli Istriani con la collaborazione della piattaforma Kepown e del quotidiano Libero. \n\nAll’evento hanno preso la parola\, oltre al moderatore\, il Presidente Massimiliano Lacota\, l’autore del volume e Padre del Giorno del Ricordo\, Roberto Menia\, Elisabetta de Dominis\, CEO di Kepown\, Pietro Senaldi\, Condirettore di Libero\, e per le istituzioni il Vicesindaco di Trieste\, Serena Tonel e l’Assessore regionale alle Autonomie Locali\, Pierpaolo Roberti.\na\n\n\n			\n				\n			\n			\n				\n			\n		\n\na \n\n			\n				\n			\n		\n\na \n\n			\n				\n			\n		\n\na \n\n			\n				\n			\n			\n				\n			\n		\n\na \n\n			\n				\n			\n		\n\na \n\n			\n				\n			\n		\n\n\n\n\n\n\n\n
URL:https://www.unioneistriani.it/event/presentazione-del-volume-di-roberto-menia-e-del-concorso-nazionale-raccontare-per-ricordare-la-fotocronaca/
LOCATION:Palazzo Tonello\, Via Silvio Pellico\, 2\, Trieste\, TS\, 34122\, Italia
CATEGORIES:Attività e Proposte
ATTACH;FMTTYPE=image/jpeg:https://www.unioneistriani.it/wp-content/uploads/2022/02/Presentazione.2022.02.09.jpg
END:VEVENT
END:VCALENDAR