BEGIN:VCALENDAR
VERSION:2.0
PRODID:-//Unione degli Istriani - ECPv5.0.0.2//NONSGML v1.0//EN
CALSCALE:GREGORIAN
METHOD:PUBLISH
X-WR-CALNAME:Unione degli Istriani
X-ORIGINAL-URL:https://www.unioneistriani.it
X-WR-CALDESC:Eventi per Unione degli Istriani
BEGIN:VTIMEZONE
TZID:Europe/Rome
BEGIN:DAYLIGHT
TZOFFSETFROM:+0100
TZOFFSETTO:+0200
TZNAME:CEST
DTSTART:20250330T010000
END:DAYLIGHT
BEGIN:STANDARD
TZOFFSETFROM:+0200
TZOFFSETTO:+0100
TZNAME:CET
DTSTART:20251026T010000
END:STANDARD
END:VTIMEZONE
BEGIN:VEVENT
DTSTART;VALUE=DATE:20250925
DTEND;VALUE=DATE:20250926
DTSTAMP:20260420T093928
CREATED:20251010T060657Z
LAST-MODIFIED:20251010T060657Z
UID:4930-1758758400-1758844799@www.unioneistriani.it
SUMMARY:DELEBIO\, LA GIUNTA COMUNALE APPROVA IL PROTOCOLLO DI INTESA CON L'UNIONE DEGLI ISTRIANI
DESCRIPTION:I tanti partneriati istituzionali che legano l’Unione degli Istriani a Comuni\, Province e Regioni italiane si arricchiscono di un nuovo tassello. \nLa Giunta comunale di Delebio (Sondrio)\, borgo ricco d’arte della basa Valtellina\, lo scorso 25 settembre ha infatti approvato all’unanimità la delibera di sottoscrizione del Protocollo di Intesa con il nostro Ente finalizzato all’organizzazione di eventi culturali dedicati alla promozione della conoscenza sul territorio comunale del dramma delle Foibe e dell’Esodo giuliano-dalmata. \nSiamo lieti di ospitare prossimamente a Trieste una Delegazione del Comune di Delebio per la firma del documento e per una visita nei nostri luoghi del ricordo. \nUn grazie a tutti coloro che hanno lavorato per questo obiettivo\, al Sindaco Marco Ioli ed in particolare ai nostri Coordinatore e Vicecoordinatore regionali per la Lombardia\, Lorenzo Galli e Gloria Brescia. \nFoto: la sede municipale di Delebio. \n
URL:https://www.unioneistriani.it/event/delebio-la-giunta-comunale-approva-il-protocollo-di-intesa-con-lunione-degli-istriani/
LOCATION:Delebio\, Sondrio\, Italia
CATEGORIES:Comunicati Stampa
ATTACH;FMTTYPE=image/jpeg:https://www.unioneistriani.it/wp-content/uploads/2025/10/Delebio.jpg
END:VEVENT
END:VCALENDAR