BEGIN:VCALENDAR
VERSION:2.0
PRODID:-//Unione degli Istriani - ECPv5.0.0.2//NONSGML v1.0//EN
CALSCALE:GREGORIAN
METHOD:PUBLISH
X-WR-CALNAME:Unione degli Istriani
X-ORIGINAL-URL:https://www.unioneistriani.it
X-WR-CALDESC:Eventi per Unione degli Istriani
BEGIN:VTIMEZONE
TZID:Europe/Rome
BEGIN:DAYLIGHT
TZOFFSETFROM:+0100
TZOFFSETTO:+0200
TZNAME:CEST
DTSTART:20250330T010000
END:DAYLIGHT
BEGIN:STANDARD
TZOFFSETFROM:+0200
TZOFFSETTO:+0100
TZNAME:CET
DTSTART:20251026T010000
END:STANDARD
END:VTIMEZONE
BEGIN:VEVENT
DTSTART;TZID=Europe/Rome:20250328T163000
DTEND;TZID=Europe/Rome:20250328T180000
DTSTAMP:20260421T102638
CREATED:20250315T095846Z
LAST-MODIFIED:20250315T095846Z
UID:4655-1743179400-1743184800@www.unioneistriani.it
SUMMARY:NICOLÒ TOMMASEO TRA STORIE E RICORDI FAMILIARI A 150 ANNI DALLA MORTE
DESCRIPTION:Invitiamo a partecipare alla presentazione del libro “Nicolò Tommaseo. Tra storie e ricordi familiari a 150 anni dalla morte” di Alvise Tommaseo Ponzetta\, discendente del grande linguista\, scrittore e patriota dalmata\, che avrà luogo venerdì 28 marzo 2025\, alle ore 16.30\, nella Sala Maggiore della sede di Palazzo Tonello\, in via S. Pellico n. 2 a Trieste\, alla presenza dell’autore.\nLa prenotazione del posto è consigliata (040.636098 – info@unioneistriani.it).\n
URL:https://www.unioneistriani.it/event/nicolo-tommaseo-tra-storie-e-ricordi-familiari-a-150-anni-dalla-morte/
LOCATION:Palazzo Tonello\, Via Silvio Pellico\, 2\, Trieste\, TS\, 34122\, Italia
CATEGORIES:Comunicati Stampa
ATTACH;FMTTYPE=image/jpeg:https://www.unioneistriani.it/wp-content/uploads/2025/03/Tommaseo_2025.03.28.jpg
END:VEVENT
END:VCALENDAR