BEGIN:VCALENDAR
VERSION:2.0
PRODID:-//Unione degli Istriani - ECPv5.0.0.2//NONSGML v1.0//EN
CALSCALE:GREGORIAN
METHOD:PUBLISH
X-WR-CALNAME:Unione degli Istriani
X-ORIGINAL-URL:https://www.unioneistriani.it
X-WR-CALDESC:Eventi per Unione degli Istriani
BEGIN:VTIMEZONE
TZID:Europe/Rome
BEGIN:DAYLIGHT
TZOFFSETFROM:+0100
TZOFFSETTO:+0200
TZNAME:CEST
DTSTART:20230326T010000
END:DAYLIGHT
BEGIN:STANDARD
TZOFFSETFROM:+0200
TZOFFSETTO:+0100
TZNAME:CET
DTSTART:20231029T010000
END:STANDARD
END:VTIMEZONE
BEGIN:VEVENT
DTSTART;TZID=Europe/Rome:20230427T170000
DTEND;TZID=Europe/Rome:20230427T170000
DTSTAMP:20260420T081752
CREATED:20230411T071957Z
LAST-MODIFIED:20230411T071957Z
UID:3861-1682614800-1682614800@www.unioneistriani.it
SUMMARY:CONFERENZA "L'USO DELLE FORTIFICAZIONI VENEZIANE NEL SECONDO DOPOGUERRA NELLA COMPLESSA VICENDA DEL CONFINE ORIENTALE"
DESCRIPTION:invitiamo a partecipare alle conferenza promossa dall’Istituto italiano dei castelli\, dal titolo “L’uso delle fortificazioni veneziane nel secondo dopoguerra nella complessa vicenda del confine orientale. Il caso della Batteria Rocchetta al Lido di Venezia”\, che avrà luogo giovedì 27 aprile 2023\, alle ore 17.00\, nella Sala Maggiore della sede di Palazzo Tonello a Trieste. \nSarà sicuramente interessante conoscere meglio l’impiego delle fortificazioni veneziane dopo la Seconda guerra mondiale come luoghi per l’ospitalità agli esuli giuliano dalmati e come ponte verso i territori sotto controllo alleato e jugoslavo. Ci saranno\, inoltre\, vari focus dalla politica estera del nostro Paese in quel particolare periodo alla storia dell’architettura militare\, con un approfondimento sulle difese costiere venete in generale e sulla Batteria Rocchetta al Lido di Venezia in particolare. \n
URL:https://www.unioneistriani.it/event/conferenza-luso-delle-fortificazioni-veneziane-nel-secondo-dopoguerra-nella-complessa-vicenda-del-confine-orientale/
LOCATION:Palazzo Tonello\, Via Silvio Pellico\, 2\, Trieste\, TS\, 34122\, Italia
CATEGORIES:Comunicati Stampa
ATTACH;FMTTYPE=image/jpeg:https://www.unioneistriani.it/wp-content/uploads/2023/04/Conferenza_2023.04.27.jpg
END:VEVENT
END:VCALENDAR