BEGIN:VCALENDAR
VERSION:2.0
PRODID:-//Unione degli Istriani - ECPv5.0.0.2//NONSGML v1.0//EN
CALSCALE:GREGORIAN
METHOD:PUBLISH
X-WR-CALNAME:Unione degli Istriani
X-ORIGINAL-URL:https://www.unioneistriani.it
X-WR-CALDESC:Eventi per Unione degli Istriani
BEGIN:VTIMEZONE
TZID:Europe/Rome
BEGIN:DAYLIGHT
TZOFFSETFROM:+0100
TZOFFSETTO:+0200
TZNAME:CEST
DTSTART:20200329T010000
END:DAYLIGHT
BEGIN:STANDARD
TZOFFSETFROM:+0200
TZOFFSETTO:+0100
TZNAME:CET
DTSTART:20201025T010000
END:STANDARD
END:VTIMEZONE
BEGIN:VEVENT
DTSTART;VALUE=DATE:20201115
DTEND;VALUE=DATE:20201116
DTSTAMP:20260421T132132
CREATED:20201127T091639Z
LAST-MODIFIED:20201127T091639Z
UID:2390-1605398400-1605484799@www.unioneistriani.it
SUMMARY:NUOVO COORDINATORE REGIONALE PER IL LAZIO
DESCRIPTION:A seguito della nomina avvenuta lo scorso 29 settembre\, presentiamo\, uno ad uno\, i nove Coordinatori regionali in carica dal 1° ottobre.\nSimona Pellis\, che si occuperà di coordinare le attività nel Lazio\, è di famiglia quasi interamente istriana\, con padre di Parenzo e madre di Pola\, è nata a Roma nel 1964 dove i genitori si sono conosciuti dopo l’Esodo.\nDa sempre interessata al mondo dei libri\, per 25 anni ha lavorato nel Marketing della casa Editrice De Agostini\, fino alla chiusura della sede romana per poi occuparsi di traduzioni e customer care internazionale\, grazie alla buona conoscenza di alcune lingue europee.\n“Sono molto fiera della matrice istriana preponderante nel mio DNA e nel mio patrimonio culturale. Già da bambina tutte le ricerche a piacere le facevo sull’Istria… Ma la mia generazione è stata protetta\, a noi hanno risparmiato tanti dettagli tragici\, che io ora conosco e mi fanno avvertire l’urgenza di fare la mia parte.\nChi ci ha preceduto è stato eroico\, ora tocca a noi. Ringrazio l’Unione degli Istriani per avermi dato questa opportunità. Farò in modo di esserne all’altezza.” \n
URL:https://www.unioneistriani.it/event/nuovo-coordinatore-regionale-per-il-lazio/
CATEGORIES:Comunicati Stampa
ATTACH;FMTTYPE=image/jpeg:https://www.unioneistriani.it/wp-content/uploads/2020/11/Pellis.jpg
END:VEVENT
END:VCALENDAR